BEGIN:VCALENDAR
VERSION:2.0
PRODID:-//Gratis Uppsala - ECPv5.2.1//NONSGML v1.0//EN
CALSCALE:GREGORIAN
METHOD:PUBLISH
X-WR-CALNAME:Gratis Uppsala
X-ORIGINAL-URL:https://arkiv.gratisuppsala.se
X-WR-CALDESC:Händelser för Gratis Uppsala
BEGIN:VTIMEZONE
TZID:Europe/Stockholm
BEGIN:DAYLIGHT
TZOFFSETFROM:+0100
TZOFFSETTO:+0200
TZNAME:CEST
DTSTART:20160327T010000
END:DAYLIGHT
BEGIN:STANDARD
TZOFFSETFROM:+0200
TZOFFSETTO:+0100
TZNAME:CET
DTSTART:20161030T010000
END:STANDARD
END:VTIMEZONE
BEGIN:VEVENT
DTSTART;TZID=Europe/Stockholm:20160624T140000
DTEND;TZID=Europe/Stockholm:20160624T140000
DTSTAMP:20260420T063014
CREATED:20160620T090039Z
LAST-MODIFIED:20160621T081854Z
UID:7566-1466776800-1466776800@arkiv.gratisuppsala.se
SUMMARY:Midsommar i Ekeby by
DESCRIPTION:Välkommen att fira midsommar i Ekeby by!\nDet drar igång kl 13 då stången ska resas\, sedan blir det sång och dans för hela familjen.\nSom vanlig finns det fiskdamm\, chokladhjul\, pilkastning och annat som hör högtiden till.\nKaffeservering.\nVägbeskrivning: 11 km väster om Uppsala\, väg 72 mot Sala. Buss 848 stannar vid Ekeby. \nArrangörer är Vänge Hembygdsförening. \nFoto: wikipedia.org. \nDela evenemanget
URL:https://arkiv.gratisuppsala.se/event/midsommar-i-ekeby-by/
LOCATION:Vänge Hembygdsgård\, Vänge-ekeby 119\, Vänge\, 74020\, Sverige
CATEGORIES:Midsommar
ATTACH;FMTTYPE=image/jpeg:https://arkiv.gratisuppsala.se/wp-content/uploads/2016/06/små_grodorna_dans.jpg
GEO:59.8493125;17.452114
X-APPLE-STRUCTURED-LOCATION;VALUE=URI;X-ADDRESS=Vänge Hembygdsgård Vänge-ekeby 119 Vänge 74020 Sverige;X-APPLE-RADIUS=500;X-TITLE=Vänge-ekeby 119:geo:17.452114,59.8493125
END:VEVENT
END:VCALENDAR