BEGIN:VCALENDAR
VERSION:2.0
PRODID:-//Gratis Uppsala - ECPv5.2.1//NONSGML v1.0//EN
CALSCALE:GREGORIAN
METHOD:PUBLISH
X-WR-CALNAME:Gratis Uppsala
X-ORIGINAL-URL:https://arkiv.gratisuppsala.se
X-WR-CALDESC:Händelser för Gratis Uppsala
BEGIN:VTIMEZONE
TZID:Europe/Stockholm
BEGIN:DAYLIGHT
TZOFFSETFROM:+0100
TZOFFSETTO:+0200
TZNAME:CEST
DTSTART:20160327T010000
END:DAYLIGHT
BEGIN:STANDARD
TZOFFSETFROM:+0200
TZOFFSETTO:+0100
TZNAME:CET
DTSTART:20161030T010000
END:STANDARD
END:VTIMEZONE
BEGIN:VEVENT
DTSTART;TZID=Europe/Stockholm:20160624T140000
DTEND;TZID=Europe/Stockholm:20160624T170000
DTSTAMP:20260420T050708
CREATED:20160620T074050Z
LAST-MODIFIED:20160620T074050Z
UID:7562-1466776800-1466787600@arkiv.gratisuppsala.se
SUMMARY:Midsommar på Fyrishov
DESCRIPTION:Midsommar på Fyrishov med aktiviteter för både stora och små. Hoppborg\, hinderbana\, fyrkamp\, fiskdamm och mingel med Kaj Krokodil. \nProgrammet ser ut så här:\nKl 13-14 kläs midsommarstången\, ta gärna med blommor.\nKl 13-15 hålls fyrkamp\, bildorientering\, fiskdamm\, hinderbana och hoppborg.\nKl 15-15.40 blir det dans och lekar kring midsommarstången med Kaj Krokodil och riksspelman Leif Alpsjö.\nCa kl 15.40 utlottning av priser på bildorientering och fyrkamp. \nFri entré till sommarbadet från kl 12. \nFoto: fyrishov.se. \nDela evenemanget
URL:https://arkiv.gratisuppsala.se/event/midsommar-pa-fyrishov/
LOCATION:Fyrishov\, Idrottsgatan 2\, Uppsala\, 753 33
CATEGORIES:Midsommar
ATTACH;FMTTYPE=image/jpeg:https://arkiv.gratisuppsala.se/wp-content/uploads/2016/06/midsommar_Kaj_fyrishov.jpg
ORGANIZER;CN="Fyrishov":MAILTO:info@fyrishov.se
GEO:59.8705229;17.6233124
X-APPLE-STRUCTURED-LOCATION;VALUE=URI;X-ADDRESS=Fyrishov Idrottsgatan 2 Uppsala 753 33;X-APPLE-RADIUS=500;X-TITLE=Idrottsgatan 2:geo:17.6233124,59.8705229
END:VEVENT
END:VCALENDAR