BEGIN:VCALENDAR
VERSION:2.0
PRODID:-//Gratis Uppsala - ECPv5.2.1//NONSGML v1.0//EN
CALSCALE:GREGORIAN
METHOD:PUBLISH
X-WR-CALNAME:Gratis Uppsala
X-ORIGINAL-URL:https://arkiv.gratisuppsala.se
X-WR-CALDESC:Händelser för Gratis Uppsala
BEGIN:VTIMEZONE
TZID:Europe/Stockholm
BEGIN:DAYLIGHT
TZOFFSETFROM:+0100
TZOFFSETTO:+0200
TZNAME:CEST
DTSTART:20160327T010000
END:DAYLIGHT
BEGIN:STANDARD
TZOFFSETFROM:+0200
TZOFFSETTO:+0100
TZNAME:CET
DTSTART:20161030T010000
END:STANDARD
END:VTIMEZONE
BEGIN:VEVENT
DTSTART;TZID=Europe/Stockholm:20160507T130000
DTEND;TZID=Europe/Stockholm:20160507T160000
DTSTAMP:20260422T003127
CREATED:20160502T111454Z
LAST-MODIFIED:20160502T111454Z
UID:6880-1462626000-1462636800@arkiv.gratisuppsala.se
SUMMARY:MikroBEAT - DJ Funky Tuna
DESCRIPTION:MikroBEAT – DJ Funky Tuna på Market i sal B\, Uppsala Konsert & Kongress\, lördag 7 maj kl 12-15. \nExtra kul för barn 1-9 år. \nFinns det något roligare än att dansa och hoppa i takt till musik? Med rätt volym i högtalarna är det lagom högt för att musiken ska gå att dansa till – men inte så högt att man får ont i öronen.\nDJs med järnkoll på beatsen finns på plats\, precis som häftiga ljud- och ljuseffekter. Här är det barnen som äger dansgolvet. Vuxna får förstås också vara med – men för att dansa krävs det att man kommer i sällskap med barn! \nBild: ukk.se. \nDela evenemanget
URL:https://arkiv.gratisuppsala.se/event/mikrobeat-dj-funky-tuna/
LOCATION:Uppsala Konsert & Kongress\, Vaksalatorg 1\, Uppsala
CATEGORIES:Sång och Musik,Workshop
ATTACH;FMTTYPE=image/jpeg:https://arkiv.gratisuppsala.se/wp-content/uploads/2016/05/mikrobeat1_515x290.jpg
ORGANIZER;CN="Uppsala%20Konsert%20%26%20Kongress":MAILTO:info@ukk.se
GEO:59.8614429;17.6460839
X-APPLE-STRUCTURED-LOCATION;VALUE=URI;X-ADDRESS=Uppsala Konsert & Kongress Vaksalatorg 1 Uppsala;X-APPLE-RADIUS=500;X-TITLE=Vaksalatorg 1:geo:17.6460839,59.8614429
END:VEVENT
END:VCALENDAR