BEGIN:VCALENDAR
VERSION:2.0
PRODID:-//Gratis Uppsala - ECPv5.2.1//NONSGML v1.0//EN
CALSCALE:GREGORIAN
METHOD:PUBLISH
X-WR-CALNAME:Gratis Uppsala
X-ORIGINAL-URL:https://arkiv.gratisuppsala.se
X-WR-CALDESC:Händelser för Gratis Uppsala
BEGIN:VTIMEZONE
TZID:Europe/Stockholm
BEGIN:DAYLIGHT
TZOFFSETFROM:+0100
TZOFFSETTO:+0200
TZNAME:CEST
DTSTART:20150329T010000
END:DAYLIGHT
BEGIN:STANDARD
TZOFFSETFROM:+0200
TZOFFSETTO:+0100
TZNAME:CET
DTSTART:20151025T010000
END:STANDARD
END:VTIMEZONE
BEGIN:VEVENT
DTSTART;TZID=Europe/Stockholm:20151007T140000
DTEND;TZID=Europe/Stockholm:20151007T160000
DTSTAMP:20260421T081744
CREATED:20151005T124413Z
LAST-MODIFIED:20151005T132311Z
UID:4045-1444226400-1444233600@arkiv.gratisuppsala.se
SUMMARY:Mingelfika - träffa Kerstin Lundström från Minneslotsen
DESCRIPTION:Få råd och tips om demens 13.00-15.00. \nDela evenemanget
URL:https://arkiv.gratisuppsala.se/event/mingelfika-traffa-kerstin-lundstrom-fran-minneslotsen/
LOCATION:Träffpunkt Årsta\,  Fyrislundsgatan 66\, Uppsala\, Sverige
CATEGORIES:60+
ORGANIZER;CN="Uppsala%20kommun":MAILTO:uppsala.kommun@uppsala.se
GEO:59.8610289;17.6875953
X-APPLE-STRUCTURED-LOCATION;VALUE=URI;X-ADDRESS=Träffpunkt Årsta  Fyrislundsgatan 66 Uppsala Sverige;X-APPLE-RADIUS=500;X-TITLE=Fyrislundsgatan 66:geo:17.6875953,59.8610289
END:VEVENT
END:VCALENDAR