BEGIN:VCALENDAR
VERSION:2.0
PRODID:-//Gratis Uppsala - ECPv5.2.1//NONSGML v1.0//EN
CALSCALE:GREGORIAN
METHOD:PUBLISH
X-WR-CALNAME:Gratis Uppsala
X-ORIGINAL-URL:https://arkiv.gratisuppsala.se
X-WR-CALDESC:Händelser för Gratis Uppsala
BEGIN:VTIMEZONE
TZID:Europe/Stockholm
BEGIN:DAYLIGHT
TZOFFSETFROM:+0100
TZOFFSETTO:+0200
TZNAME:CEST
DTSTART:20170326T010000
END:DAYLIGHT
BEGIN:STANDARD
TZOFFSETFROM:+0200
TZOFFSETTO:+0100
TZNAME:CET
DTSTART:20171029T010000
END:STANDARD
END:VTIMEZONE
BEGIN:VEVENT
DTSTART;TZID=Europe/Stockholm:20170225T103000
DTEND;TZID=Europe/Stockholm:20170225T113000
DTSTAMP:20260421T070459
CREATED:20170222T092311Z
LAST-MODIFIED:20170222T092311Z
UID:12187-1488018600-1488022200@arkiv.gratisuppsala.se
SUMMARY:Minibio
DESCRIPTION:Filmvisning som passar för dig som är 3-5 år. \n\n\nSyskon och föräldrar är välkomna. \nIngen föranmälan men meddela gärna om du kommer med en större grupp. \nGratis\, från klockan 10.30 \nBälingebiblioteket. \n\n  \nDela evenemanget
URL:https://arkiv.gratisuppsala.se/event/minibio-2/
LOCATION:Bälingebiblioteket\, Lundgårdsvägen 2\, Bälinge
CATEGORIES:Litteratur och Poesi,Sportlov
ATTACH;FMTTYPE=image/png:https://arkiv.gratisuppsala.se/wp-content/uploads/2016/11/minibio.png
GEO:59.9489388;17.5303465
X-APPLE-STRUCTURED-LOCATION;VALUE=URI;X-ADDRESS=Bälingebiblioteket Lundgårdsvägen 2 Bälinge;X-APPLE-RADIUS=500;X-TITLE=Lundgårdsvägen 2:geo:17.5303465,59.9489388
END:VEVENT
END:VCALENDAR