BEGIN:VCALENDAR
VERSION:2.0
PRODID:-//Gratis Uppsala - ECPv5.2.1//NONSGML v1.0//EN
CALSCALE:GREGORIAN
METHOD:PUBLISH
X-WR-CALNAME:Gratis Uppsala
X-ORIGINAL-URL:https://arkiv.gratisuppsala.se
X-WR-CALDESC:Händelser för Gratis Uppsala
BEGIN:VTIMEZONE
TZID:Europe/Stockholm
BEGIN:DAYLIGHT
TZOFFSETFROM:+0100
TZOFFSETTO:+0200
TZNAME:CEST
DTSTART:20160327T010000
END:DAYLIGHT
BEGIN:STANDARD
TZOFFSETFROM:+0200
TZOFFSETTO:+0100
TZNAME:CET
DTSTART:20161030T010000
END:STANDARD
END:VTIMEZONE
BEGIN:VEVENT
DTSTART;TZID=Europe/Stockholm:20161125T100000
DTEND;TZID=Europe/Stockholm:20161125T110000
DTSTAMP:20260420T020421
CREATED:20161124T132745Z
LAST-MODIFIED:20161124T132745Z
UID:9506-1480068000-1480071600@arkiv.gratisuppsala.se
SUMMARY:Minibio Filmvisning för de minsta och deras föräldrar.
DESCRIPTION:Ingen föranmälan.\nAlla barn är välkomna!! \nIngen kostnad \nDela evenemanget
URL:https://arkiv.gratisuppsala.se/event/minibio-filmvisning-de-minsta-och-deras-foraldrar/
LOCATION:Gottsundabiblioteket\, Valthornsvägen 11\, Uppsala\, 756 50 \, Sverige
ATTACH;FMTTYPE=image/png:https://arkiv.gratisuppsala.se/wp-content/uploads/2016/11/minibio.png
GEO:59.8093409;17.6295555
X-APPLE-STRUCTURED-LOCATION;VALUE=URI;X-ADDRESS=Gottsundabiblioteket Valthornsvägen 11 Uppsala 756 50  Sverige;X-APPLE-RADIUS=500;X-TITLE=Valthornsvägen 11:geo:17.6295555,59.8093409
END:VEVENT
END:VCALENDAR