BEGIN:VCALENDAR
VERSION:2.0
PRODID:-//Gratis Uppsala - ECPv5.2.1//NONSGML v1.0//EN
CALSCALE:GREGORIAN
METHOD:PUBLISH
X-WR-CALNAME:Gratis Uppsala
X-ORIGINAL-URL:https://arkiv.gratisuppsala.se
X-WR-CALDESC:Händelser för Gratis Uppsala
BEGIN:VTIMEZONE
TZID:Europe/Stockholm
BEGIN:DAYLIGHT
TZOFFSETFROM:+0100
TZOFFSETTO:+0200
TZNAME:CEST
DTSTART:20200329T010000
END:DAYLIGHT
BEGIN:STANDARD
TZOFFSETFROM:+0200
TZOFFSETTO:+0100
TZNAME:CET
DTSTART:20201025T010000
END:STANDARD
END:VTIMEZONE
BEGIN:VEVENT
DTSTART;TZID=Europe/Stockholm:20200228T140000
DTEND;TZID=Europe/Stockholm:20200228T150000
DTSTAMP:20260420T114510
CREATED:20200227T090442Z
LAST-MODIFIED:20200227T091025Z
UID:40524-1582898400-1582902000@arkiv.gratisuppsala.se
SUMMARY:Minibio på Sävjabiblioteket (3-5 år)
DESCRIPTION:Minibio på Sävjabiblioteket (3-5 år)\nUnder tre tillfällen i vår på Sävjabiblioteket bjuds det på minibio för de allra minsta barnen. Det bjuds även på popcorn. \nDatum: \nFredag 28 februari 2020\nFredag 20 mars 2020\nFredag 24 april 2020 \nTid: 14:00-15:00\nPlats: Sävjabiblioteket\nÅlder: 3-5 år\nPris: Gratis\nAnmälan: Ingen föranmälan \n\nOm Bibliotek Uppsala\n\n\nBibliotek Uppsala är en plats för möten\, kunskap och upplevelser. Tanken är att ge alla Uppsalabor tillgång till berättelser och information som kan ge nya insikter och nya perspektiv. Genom ett författarsamtal\, en bok\, en utställning\, en sagostund eller någon annan av de hundratals aktiviteter och arrangemang som erbjuds varje år. \n\n\n\nBesök gärna länkarna nedan (externa länkar öppnas i ett nytt fönster/flik).\nFilmvisning på Sävjabiblioteket | Kommande event inom bio \nFoto: Pixabay \nDela evenemanget
URL:https://arkiv.gratisuppsala.se/event/minibio-pa-savjabiblioteket/2020-02-28/
LOCATION:Sävjabiblioteket\, Sverige
CATEGORIES:Ålderskategori,Anmälan / Kostnad,Barn,Barnbio,Bio,Eventkategori,Geografisk kategori,Gratis,Ingen föranmälan,Sävja,Teater och Bio,Uppsala
ATTACH;FMTTYPE=image/jpeg:https://arkiv.gratisuppsala.se/wp-content/uploads/2018/09/popcorn-1433326_1920-e1536874124178.jpg
ORGANIZER;CN="S%C3%A4vjabiblioteket":MAILTO:savjabiblioteket@uppsala.se
END:VEVENT
END:VCALENDAR