BEGIN:VCALENDAR
VERSION:2.0
PRODID:-//Gratis Uppsala - ECPv5.2.1//NONSGML v1.0//EN
CALSCALE:GREGORIAN
METHOD:PUBLISH
X-WR-CALNAME:Gratis Uppsala
X-ORIGINAL-URL:https://arkiv.gratisuppsala.se
X-WR-CALDESC:Händelser för Gratis Uppsala
BEGIN:VTIMEZONE
TZID:Europe/Stockholm
BEGIN:DAYLIGHT
TZOFFSETFROM:+0100
TZOFFSETTO:+0200
TZNAME:CEST
DTSTART:20180325T010000
END:DAYLIGHT
BEGIN:STANDARD
TZOFFSETFROM:+0200
TZOFFSETTO:+0100
TZNAME:CET
DTSTART:20181028T010000
END:STANDARD
END:VTIMEZONE
BEGIN:VEVENT
DTSTART;TZID=Europe/Stockholm:20180921T150000
DTEND;TZID=Europe/Stockholm:20180921T160000
DTSTAMP:20260420T143729
CREATED:20180915T124808Z
LAST-MODIFIED:20180930T200735Z
UID:29485-1537542000-1537545600@arkiv.gratisuppsala.se
SUMMARY:Minibio på Sävjabiblioteket hösten 2018
DESCRIPTION:Minibio på Sävjabiblioteket hösten 2018\nVälkommen på Minibio på Sävjabiblioteket. Se en film med ditt barn 3–5 år. \nFör att titta på Minibio måste ditt barn vara medlem i Minibioklubben. Det är gratis att vara medlem\, men det finns ett begränsat antal platser. \nVill du gå med i klubben? Kontakta Sävjabiblioteket! \nDatum: Fredagar\, 21 september\, 19 oktober och 23 november 2018\nTid: 14.00\nPlats: Sävjabiblioteket \n  \n\nBesök gärna Sävjabiblioteket för mer information. \nBild från pixabay.com \nDela evenemanget
URL:https://arkiv.gratisuppsala.se/event/minibio-savjabiblioteket-ht18/2018-09-21/
LOCATION:Sverige
CATEGORIES:Barnbio,Familj,Litteratur och Poesi,Teater och Bio
ATTACH;FMTTYPE=image/jpeg:https://arkiv.gratisuppsala.se/wp-content/uploads/2018/09/photo-1513106580091-1d82408b8cd6-e1537018682250.jpg
ORGANIZER;CN="S%C3%A4vjabiblioteket":MAILTO:savjabiblioteket@uppsala.se
END:VEVENT
END:VCALENDAR