BEGIN:VCALENDAR
VERSION:2.0
PRODID:-//Gratis Uppsala - ECPv5.2.1//NONSGML v1.0//EN
CALSCALE:GREGORIAN
METHOD:PUBLISH
X-WR-CALNAME:Gratis Uppsala
X-ORIGINAL-URL:https://arkiv.gratisuppsala.se
X-WR-CALDESC:Händelser för Gratis Uppsala
BEGIN:VTIMEZONE
TZID:Europe/Stockholm
BEGIN:DAYLIGHT
TZOFFSETFROM:+0100
TZOFFSETTO:+0200
TZNAME:CEST
DTSTART:20180325T010000
END:DAYLIGHT
BEGIN:STANDARD
TZOFFSETFROM:+0200
TZOFFSETTO:+0100
TZNAME:CET
DTSTART:20181028T010000
END:STANDARD
END:VTIMEZONE
BEGIN:VEVENT
DTSTART;TZID=Europe/Stockholm:20180426T143000
DTEND;TZID=Europe/Stockholm:20180426T143000
DTSTAMP:20260420T130312
CREATED:20180406T063630Z
LAST-MODIFIED:20180406T063630Z
UID:23272-1524753000-1524753000@arkiv.gratisuppsala.se
SUMMARY:Minnesmottagningen informerar
DESCRIPTION:Minnesmottagningen informerar\nMinnesmottagningen\, Akademiska sjukhuset\, informerar om olika\ndemenssjukdomar. Möjlighet till frågor och diskussion. \nPlats: Anhörigcentrum\, S:t Persgatan 10 A. \nTorsdag 26 april 13.30. \nFöranmälan till Anhörigcentrum.* \n* Vid förhinder vänligen avboka så platsen kan erbjudas till någon annan. \nBild från: pixabay.com \nDela evenemanget
URL:https://arkiv.gratisuppsala.se/event/minnesmottagningen-informerar/
LOCATION:Anhörigcentrum\, S:t Persgatan 10 A\, Uppsala\, Sverige
CATEGORIES:60+,För anhöriga,Kunskap och Lärande
ATTACH;FMTTYPE=image/jpeg:https://arkiv.gratisuppsala.se/wp-content/uploads/2018/03/dependent-100343_640.jpg
GEO:59.8598018;17.6380593
X-APPLE-STRUCTURED-LOCATION;VALUE=URI;X-ADDRESS=Anhörigcentrum S:t Persgatan 10 A Uppsala Sverige;X-APPLE-RADIUS=500;X-TITLE=S:t Persgatan 10 A:geo:17.6380593,59.8598018
END:VEVENT
END:VCALENDAR