BEGIN:VCALENDAR
VERSION:2.0
PRODID:-//Gratis Uppsala - ECPv5.2.1//NONSGML v1.0//EN
CALSCALE:GREGORIAN
METHOD:PUBLISH
X-WR-CALNAME:Gratis Uppsala
X-ORIGINAL-URL:https://arkiv.gratisuppsala.se
X-WR-CALDESC:Händelser för Gratis Uppsala
BEGIN:VTIMEZONE
TZID:Europe/Stockholm
BEGIN:DAYLIGHT
TZOFFSETFROM:+0100
TZOFFSETTO:+0200
TZNAME:CEST
DTSTART:20170326T010000
END:DAYLIGHT
BEGIN:STANDARD
TZOFFSETFROM:+0200
TZOFFSETTO:+0100
TZNAME:CET
DTSTART:20171029T010000
END:STANDARD
END:VTIMEZONE
BEGIN:VEVENT
DTSTART;TZID=Europe/Stockholm:20171208T140000
DTEND;TZID=Europe/Stockholm:20171208T140000
DTSTAMP:20260420T114510
CREATED:20171205T130852Z
LAST-MODIFIED:20171205T130852Z
UID:21077-1512741600-1512741600@arkiv.gratisuppsala.se
SUMMARY:Mitt på da’n: Att tomtar kunde va’ lömska har fallit i glömska
DESCRIPTION:Mitt på da’n: Att tomtar kunde va’ lömska har fallit i glömska\nTommy Kuusela\, forskningsarkivarie vid Institutet för språk och fornminnen berättar om folktroväsen i det gamla bondesamhället\, i Missionskyrkan fredag 8 december klockan 14:00. \nBild från:Pixabay.com\n Dela evenemanget
URL:https://arkiv.gratisuppsala.se/event/mitt-pa-dan-att-tomtar-kunde-va-lomska-har-fallit-glomska/
LOCATION:Missionskyrkan\, S:t Olofsgatan 40\, Uppsala
CATEGORIES:60+,Kunskap och Lärande,Öppet Hus,Samhälle
ATTACH;FMTTYPE=image/jpeg:https://arkiv.gratisuppsala.se/wp-content/uploads/2017/11/knowledge-1052010_640.jpg
GEO:59.8615973;17.6367168
X-APPLE-STRUCTURED-LOCATION;VALUE=URI;X-ADDRESS=Missionskyrkan S:t Olofsgatan 40 Uppsala;X-APPLE-RADIUS=500;X-TITLE=S:t Olofsgatan 40:geo:17.6367168,59.8615973
END:VEVENT
END:VCALENDAR