BEGIN:VCALENDAR
VERSION:2.0
PRODID:-//Gratis Uppsala - ECPv5.2.1//NONSGML v1.0//EN
CALSCALE:GREGORIAN
METHOD:PUBLISH
X-WR-CALNAME:Gratis Uppsala
X-ORIGINAL-URL:https://arkiv.gratisuppsala.se
X-WR-CALDESC:Händelser för Gratis Uppsala
BEGIN:VTIMEZONE
TZID:Europe/Stockholm
BEGIN:DAYLIGHT
TZOFFSETFROM:+0100
TZOFFSETTO:+0200
TZNAME:CEST
DTSTART:20200329T010000
END:DAYLIGHT
BEGIN:STANDARD
TZOFFSETFROM:+0200
TZOFFSETTO:+0100
TZNAME:CET
DTSTART:20201025T010000
END:STANDARD
END:VTIMEZONE
BEGIN:VEVENT
DTSTART;TZID=Europe/Stockholm:20200217T100000
DTEND;TZID=Europe/Stockholm:20200217T180000
DTSTAMP:20260420T164502
CREATED:20191213T081214Z
LAST-MODIFIED:20200130T142456Z
UID:39995-1581933600-1581962400@arkiv.gratisuppsala.se
SUMMARY:Modelltåg | Uppsala Konsert & Kongress
DESCRIPTION:Modelltåg | Uppsala Konsert & Kongress\nModelltåg i mängder! Modellentusiaster bygger och visar en 75 m lång bana\, kör modelltåg och ha kul – kom och titta på en magisk värld i miniatyr under sportlovet 17-22 februari. Banorna går med dubbelspår vissa sträckor och flera stationer har upp till 7 spår. Så antalet meter räls blir… många! Teknik på hög nivå\, hantverksmässig perfektion och samarbete är det som gäller. \nMälarModulMöte (MMM) startade 2004. Föreningen samlar över 70 byggare av modelltåg som enskilt bygger moduler som sedan kan sammankopplas till stora modelljärnvägar. Alla bygger enligt egen erfarenhet och förmåga\, utan speciella regler och pekpinnar. MälarModulMöte var på UKK 2018 och kommer nu på efterlängtat återbesök. \n– Man ska ta sig tid att titta på alla detaljer\, det finns väldigt mycket att upptäcka i varje modul\, säger Seth Olofsson en av grundarna i föreningen och fortsätter; För oss är själva byggandet förstås den största grejen. Men att se glädjen i människors ansikten när vi visar upp våra modeller är fantastiskt. Det är lite som att vi bakat en tårta som vi får bjuda på! \n  \nSeth är märkbart förtjust när han berättar om hantverket\, detaljarbetet och engagemanget som ligger bakom varje enskild modul. Han berättar att det finns vissa strikta regler att hålla sig till för att modulerna ska passa ihop med varandra\, när det gäller rälsar\, styrsystem och elektronik\, men i övrigt är det kreativ frihet som gäller. Allt från autentiska kopior av befintliga stationer till fantasifulla tolkningar av verkligheten förekommer. Och det allra mesta görs för hand; från träd och byggnader till tåg och lok. \nLoken är en historia för sig. I varje lok (som i modelljärnvägsbranschen värderas från 1500 kr upp mot 20.000 kr beroende på konstruktör och teknik) sätts ett chip in. Med detta styrs sedan tågen från ett datasystem\, eller från en app – allt programmerat av tågbyggarna själva. Att använda sig av tågljud inspelade i verkligheten hör också till. Ljud\, ljus och spår styrs också med hjälp av systemet som MMM byggt upp. \nDet är alltså inga leksakståg som kör runt\, runt\, runt. Här handlar det om teknik på hög nivå\, hantverksmässig perfektion och samarbete. \n– Men de finns inga barn och vuxna när det kommer till modelljärnvägar. Alla är barn i denna hobby\, avslutar Seth med ett stort skratt. \nDatum: Måndag 17 februari 2020\nÖppettider: \nMåndag 17/2 10.00-18.00. Caféet har öppet 11.00-18.00\, lunchservering 11.00-14.00\nTisdag 18/2 10.00-18.00. Caféet har öppet 11.00-18.00\, lunchservering 11.00-14.00\nOnsdag 19/2 10.00-18.00. Caféet har öppet 11.00-18.00\, lunchservering 11.00-14.00\nTorsdag 20/2 10.00-18.00. Caféet har öppet 11.00-18.00\, lunchservering 11.00-14.00\nFredag 21/2 10.00-15.00. Caféet har öppet 11.00-15.00\, lunchservering 11.00-14.00\nLördag 22/2 10.00-15.00. Caféet har öppet 11.30-15.00\, lunchservering 11.30-14.30 \nPlats: Uppsala Konsert & Kongress\, Vaksalagatan 1\, 753 31 Uppsala\nÅlder: Ej angivet\nPris: Fri entré\nAnmälan: Nej\nArrangör: Uppsala Konsert & Kongree\nMedverkande: MälarModulMöte \n  \n\nOm UKK\nUKK är ett levande allkonsthus och mötesplats\, beläget mitt i en snabbt växande storstad där kreativitet\, kultur\, forskning och företagande frodas. \nUppsala Konsert & Kongress har sedan invigningen 2007 etablerat sig som en av Nordens mest omtalade\, uppskattade och framgångsrika mötesplatser. De presenterar ett utbud som präglas av mångfald\, angelägenhet och hög kvalitet. Sedan UKK slog upp dörrarna i september 2007 har huset presenterat över 2000 kulturevenemang\, arrangerat över 5000 möten och haft dryga fem miljoner besökare! \n\nBesök gärna länkarna nedan (externa länkar öppnas i ett nytt fönster/flik).\nUKK | MälarModulMöte | Kommande event under sportlovet 2020 | Kommande event vuxna | Kommande event inom skapande och kreativitet \nFoto: Pixabay \nDela evenemanget
URL:https://arkiv.gratisuppsala.se/event/modelltag-uppsala-konsert-kongress/2020-02-17/
LOCATION:Uppsala Konsert & Kongress\, VAKSALA TORG 1\, Uppsala\, Uppsala\, 753 31 Uppsala\, Sverige
CATEGORIES:Ålderskategori,Anmälan / Kostnad,Barn,Centrum,Eventkategori,Familj,Geografisk kategori,Gratis,Ingen föranmälan,Kunskap och Lärande,Mässa, Konvent & Konferens,Prova-på,Skapande och Kreativitet,Skollov,Sportlov,Ungdom,Uppsala,Vuxen
ATTACH;FMTTYPE=image/jpeg:https://arkiv.gratisuppsala.se/wp-content/uploads/2019/12/train-1148965_1280.jpg
ORGANIZER;CN="%C2%A0Uppsala%20Konsert%20%26%20Kongress":MAILTO:info@ukk.se
GEO:59.8611137;17.6458306
X-APPLE-STRUCTURED-LOCATION;VALUE=URI;X-ADDRESS=Uppsala Konsert & Kongress VAKSALA TORG 1 Uppsala Uppsala 753 31 Uppsala Sverige;X-APPLE-RADIUS=500;X-TITLE=VAKSALA TORG 1:geo:17.6458306,59.8611137
END:VEVENT
END:VCALENDAR