BEGIN:VCALENDAR
VERSION:2.0
PRODID:-//Gratis Uppsala - ECPv5.2.1//NONSGML v1.0//EN
CALSCALE:GREGORIAN
METHOD:PUBLISH
X-WR-CALNAME:Gratis Uppsala
X-ORIGINAL-URL:https://arkiv.gratisuppsala.se
X-WR-CALDESC:Händelser för Gratis Uppsala
BEGIN:VTIMEZONE
TZID:Europe/Stockholm
BEGIN:DAYLIGHT
TZOFFSETFROM:+0100
TZOFFSETTO:+0200
TZNAME:CEST
DTSTART:20170326T010000
END:DAYLIGHT
BEGIN:STANDARD
TZOFFSETFROM:+0200
TZOFFSETTO:+0100
TZNAME:CET
DTSTART:20171029T010000
END:STANDARD
END:VTIMEZONE
BEGIN:VEVENT
DTSTART;TZID=Europe/Stockholm:20170320T190000
DTEND;TZID=Europe/Stockholm:20170320T210000
DTSTAMP:20260420T114534
CREATED:20170320T113434Z
LAST-MODIFIED:20170320T113434Z
UID:12663-1490036400-1490043600@arkiv.gratisuppsala.se
SUMMARY:Modersmålspoesifestival på Teater Blanca
DESCRIPTION:Modersmålspoesifestival\nVi firar UNESCO:s modersmålsdag och världspoesidag med poesi på olika modersmål. Från svenska över spanska till bengali. \nTeater Blanca\, Idag\, måndag från klockan 19:00-21:00.\nMedverkande:\nKrister Gustavsson\, Zurab Rtveliashbili\, Azril Bacall\, Muhamed Krasniqi\nElhame Zhitia\, Adelfo Zarazua\,Ildiko Asztalos\, Magnus Dahlerus\, Shyamali Chakraborty\, Carl-Johan Bachofner\, Lars Burstedt\, Joe Labbadia Diaw\,Rimma Markova\, Anisur Rahman\nKonferencier:\nStina Rosén: kontakt@litteraturcentrum.se\,0725 37 11 55 \nHuvudarrangör: Litteraturcentrum och Teater Blanca \nOmråde: Uppsala\, Plats: Teater Blanca \nPris: FRI ENTRE! \nDela evenemanget
URL:https://arkiv.gratisuppsala.se/event/modersmalspoesifestival-pa-teater-blanca/
CATEGORIES:Teater och Bio
ATTACH;FMTTYPE=image/png:https://arkiv.gratisuppsala.se/wp-content/uploads/2017/03/flags-2.png
ORGANIZER;CN="Litteraturcentrum":MAILTO:lotta.e.johansson@studieframjandet.se
END:VEVENT
END:VCALENDAR