BEGIN:VCALENDAR
VERSION:2.0
PRODID:-//Gratis Uppsala - ECPv5.2.1//NONSGML v1.0//EN
CALSCALE:GREGORIAN
METHOD:PUBLISH
X-WR-CALNAME:Gratis Uppsala
X-ORIGINAL-URL:https://arkiv.gratisuppsala.se
X-WR-CALDESC:Händelser för Gratis Uppsala
BEGIN:VTIMEZONE
TZID:Europe/Stockholm
BEGIN:DAYLIGHT
TZOFFSETFROM:+0100
TZOFFSETTO:+0200
TZNAME:CEST
DTSTART:20160327T010000
END:DAYLIGHT
BEGIN:STANDARD
TZOFFSETFROM:+0200
TZOFFSETTO:+0100
TZNAME:CET
DTSTART:20161030T010000
END:STANDARD
END:VTIMEZONE
BEGIN:VEVENT
DTSTART;TZID=Europe/Stockholm:20161109T183000
DTEND;TZID=Europe/Stockholm:20161109T200000
DTSTAMP:20260419T234910
CREATED:20161028T073629Z
LAST-MODIFIED:20161028T073629Z
UID:9091-1478716200-1478721600@arkiv.gratisuppsala.se
SUMMARY:Möt skådespelaren Ahmad Khan Mahmoodzada
DESCRIPTION:Välkomna till Café Fridegård och möt Ahmad Khan Mahmoodzada som är skådepelare från Afghanistan. \n\n\n\nHan medverkade som tioåring i världssuccén “Flyga drake” och tvingades på grund av filmen fly sitt hemland då flera av scenerna ansågs mycket kontroversiella där.\n\nIdag bor Ahmad i Falun och är för många känd som praktikanten i ICAs reklamfilmer. \nStina Oscarson\, dramatiker och samhällsdebattör\, samtalar med Ahmad om hans första tid och hans upplevelser i Sverige. \nGratisbiljetter hämtas på biblioteket alternativt bokas via 0171-526 00 eller biblioteket@habo.se \nTips! I somras var Ahmad sommarpratare i Sveriges Radio P1. Lyssna i SR:s app eller på sverigesradio.se \n\n\n Dela evenemanget
URL:https://arkiv.gratisuppsala.se/event/mot-skadespelaren-ahmad-khan-mahmoodzada/
LOCATION:Café Fridegård\, Centrumgränd 5\, Bålsta\, 746 32\, Sverige
CATEGORIES:Litteratur och Poesi
ATTACH;FMTTYPE=image/jpeg:https://arkiv.gratisuppsala.se/wp-content/uploads/2016/10/evenemang_ahmadkhan_572x286.jpg
ORGANIZER;CN="H%C3%A5bo%20bibliotek":MAILTO:sara.hallstrom@habo.se
GEO:59.5665139;17.5271736
X-APPLE-STRUCTURED-LOCATION;VALUE=URI;X-ADDRESS=Café Fridegård Centrumgränd 5 Bålsta 746 32 Sverige;X-APPLE-RADIUS=500;X-TITLE=Centrumgränd 5:geo:17.5271736,59.5665139
END:VEVENT
END:VCALENDAR