BEGIN:VCALENDAR
VERSION:2.0
PRODID:-//Gratis Uppsala - ECPv5.2.1//NONSGML v1.0//EN
CALSCALE:GREGORIAN
METHOD:PUBLISH
X-WR-CALNAME:Gratis Uppsala
X-ORIGINAL-URL:https://arkiv.gratisuppsala.se
X-WR-CALDESC:Händelser för Gratis Uppsala
BEGIN:VTIMEZONE
TZID:Europe/Stockholm
BEGIN:DAYLIGHT
TZOFFSETFROM:+0100
TZOFFSETTO:+0200
TZNAME:CEST
DTSTART:20170326T010000
END:DAYLIGHT
BEGIN:STANDARD
TZOFFSETFROM:+0200
TZOFFSETTO:+0100
TZNAME:CET
DTSTART:20171029T010000
END:STANDARD
END:VTIMEZONE
BEGIN:VEVENT
DTSTART;TZID=Europe/Stockholm:20170320T133000
DTEND;TZID=Europe/Stockholm:20170320T153000
DTSTAMP:20260420T130505
CREATED:20170315T102009Z
LAST-MODIFIED:20170315T102009Z
UID:12537-1490016600-1490023800@arkiv.gratisuppsala.se
SUMMARY:Möte mellan kulturer
DESCRIPTION:SeSam-föreläsning i Tierp\nSeSam har kostnadsfria föreläsningar kring tema funktionsnedsättningar.\nSeSam är en mötesplats som funnits sedan 1992 för erfarenhetsutbyte mellan professionella\, forskning\, brukare/anhöriga och andra intresserade. \nMåndag 20 mars föreläser överläkare i psykiatri Lars Albinsson samt diakon och samhällskonstnär Turid Apelgårdh om möten mellan olika kulturer. \nMer information och anmälan till föreläsning här:\nhttp://www.sesamuppsala.se/tierp-20-mars-mote-mellan-kulturer/ \nTid och plats \nMåndag 20 mars kl 13:30-15:30 \nBlåa rummet\, Grevegatan 32\, Tierp \nBilden hämtad från pixabay.com \n  \n  \nDela evenemanget
URL:https://arkiv.gratisuppsala.se/event/mote-mellan-kulturer/
CATEGORIES:Kropp och Själ,Kunskap och Lärande
ATTACH;FMTTYPE=image/jpeg:https://arkiv.gratisuppsala.se/wp-content/uploads/2017/03/connected-1327191__340.jpg
ORGANIZER;CN="SeSam":MAILTO:info@sesamuppsala.se
END:VEVENT
END:VCALENDAR