BEGIN:VCALENDAR
VERSION:2.0
PRODID:-//Gratis Uppsala - ECPv5.2.1//NONSGML v1.0//EN
CALSCALE:GREGORIAN
METHOD:PUBLISH
X-WR-CALNAME:Gratis Uppsala
X-ORIGINAL-URL:https://arkiv.gratisuppsala.se
X-WR-CALDESC:Händelser för Gratis Uppsala
BEGIN:VTIMEZONE
TZID:Europe/Stockholm
BEGIN:DAYLIGHT
TZOFFSETFROM:+0100
TZOFFSETTO:+0200
TZNAME:CEST
DTSTART:20160327T010000
END:DAYLIGHT
BEGIN:STANDARD
TZOFFSETFROM:+0200
TZOFFSETTO:+0100
TZNAME:CET
DTSTART:20161030T010000
END:STANDARD
END:VTIMEZONE
BEGIN:VEVENT
DTSTART;TZID=Europe/Stockholm:20160504T180000
DTEND;TZID=Europe/Stockholm:20160504T210000
DTSTAMP:20260421T185456
CREATED:20160516T074826Z
LAST-MODIFIED:20160621T101319Z
UID:7001-1462384800-1462395600@arkiv.gratisuppsala.se
SUMMARY:Motorträffar på Wenngarns slott
DESCRIPTION:På borggården och kring Wenngarns slott välkomnar vi bilar och motorcyklar varje onsdags kväll hela sommaren. Spana in vackra bilar och motorcyklar\, passa på att fika\, ät Isabels goda raggarmacka i slottskafét eller njut av god mat på uteserveringen på Dammstugan. \nOnsdagar kl 17-20 fr o m 4/5 t o m 31/8 \nOm Wenngarn \nSveriges äldsta bevarade brev från 1164 handlar om området kring Wenngarn\, genom århundradena har Vasaätten\, statsmän\, riddare och riksråd bott och härskat på Wenngarn. Magnus Gabriel de la Gardies magiska slott och sköna barockpark är några pärlor på platsen där ett samhälle byggdes upp under 1900-talet kring Sveriges första alkoholistanstalt. \nWenngarn är idag ett levande bysamhälle anpassat efter människans behov och förutsättningar. En magisk plats med 1000 år av historia som behövs och kan göra skillnad för människor som lever\, skapar och möts här. Ett levande samhälle där öppenhet och delaktighet är ledord. Wenngarn välkomnar boende\, företagare och besökare som vill mötas\, utvecklas och inspireras. \nDela evenemanget
URL:https://arkiv.gratisuppsala.se/event/motortraffar-pa-wenngarns-slott/2016-05-04/
LOCATION:Wenngarns slott\, Wenngarn\, Sigtuna\, 193 91 \, Sverige
CATEGORIES:Utställning
ATTACH;FMTTYPE=image/jpeg:https://arkiv.gratisuppsala.se/wp-content/uploads/2016/05/wenngarn-motortraff.jpg
ORGANIZER;CN="Wenngarn":MAILTO:info@wenngarn.se
GEO:59.6578947;17.6605697
X-APPLE-STRUCTURED-LOCATION;VALUE=URI;X-ADDRESS=Wenngarns slott Wenngarn Sigtuna 193 91  Sverige;X-APPLE-RADIUS=500;X-TITLE=Wenngarn:geo:17.6605697,59.6578947
END:VEVENT
END:VCALENDAR