BEGIN:VCALENDAR
VERSION:2.0
PRODID:-//Gratis Uppsala - ECPv5.2.1//NONSGML v1.0//EN
CALSCALE:GREGORIAN
METHOD:PUBLISH
X-WR-CALNAME:Gratis Uppsala
X-ORIGINAL-URL:https://arkiv.gratisuppsala.se
X-WR-CALDESC:Händelser för Gratis Uppsala
BEGIN:VTIMEZONE
TZID:Europe/Stockholm
BEGIN:DAYLIGHT
TZOFFSETFROM:+0100
TZOFFSETTO:+0200
TZNAME:CEST
DTSTART:20150329T010000
END:DAYLIGHT
BEGIN:STANDARD
TZOFFSETFROM:+0200
TZOFFSETTO:+0100
TZNAME:CET
DTSTART:20151025T010000
END:STANDARD
END:VTIMEZONE
BEGIN:VEVENT
DTSTART;TZID=Europe/Stockholm:20151108T120000
DTEND;TZID=Europe/Stockholm:20151108T160000
DTSTAMP:20260420T101216
CREATED:20150903T071719Z
LAST-MODIFIED:20151030T065907Z
UID:3554-1446984000-1446998400@arkiv.gratisuppsala.se
SUMMARY:Museidag i regnskogen
DESCRIPTION:Museidag i regnskogen\nUpptäck växternas inre med lupp och mikroskop. \nVar med vid en frukt-obduktion – kan du hitta fröet? \nTropiska växthuset Botaniska trädgården.\nFri entré till alla Uppsalas museer på Museidagen\, se www.uppsalasmuseer.se. \n  \nBild: clker.com   \nDela evenemanget
URL:https://arkiv.gratisuppsala.se/event/museidag-i-regnskogen/
LOCATION:Botaniska trädgården\, Villavägen 8\, Uppsala\, 752 36\, Sverige
ATTACH;FMTTYPE=image/jpeg:https://arkiv.gratisuppsala.se/wp-content/uploads/2015/09/images.jpg
ORGANIZER;CN="Uppsala%20linneanska%20tr%C3%A4dg%C3%A5rdar":MAILTO:bokning@botan.uu.se
GEO:59.8503326;17.6269648
X-APPLE-STRUCTURED-LOCATION;VALUE=URI;X-ADDRESS=Botaniska trädgården Villavägen 8 Uppsala 752 36 Sverige;X-APPLE-RADIUS=500;X-TITLE=Villavägen 8:geo:17.6269648,59.8503326
END:VEVENT
END:VCALENDAR