BEGIN:VCALENDAR
VERSION:2.0
PRODID:-//Gratis Uppsala - ECPv5.2.1//NONSGML v1.0//EN
CALSCALE:GREGORIAN
METHOD:PUBLISH
X-WR-CALNAME:Gratis Uppsala
X-ORIGINAL-URL:https://arkiv.gratisuppsala.se
X-WR-CALDESC:Händelser för Gratis Uppsala
BEGIN:VTIMEZONE
TZID:Europe/Stockholm
BEGIN:DAYLIGHT
TZOFFSETFROM:+0100
TZOFFSETTO:+0200
TZNAME:CEST
DTSTART:20160327T010000
END:DAYLIGHT
BEGIN:STANDARD
TZOFFSETFROM:+0200
TZOFFSETTO:+0100
TZNAME:CET
DTSTART:20161030T010000
END:STANDARD
END:VTIMEZONE
BEGIN:VEVENT
DTSTART;TZID=Europe/Stockholm:20160723T190000
DTEND;TZID=Europe/Stockholm:20160723T200000
DTSTAMP:20260420T082200
CREATED:20160701T065009Z
LAST-MODIFIED:20160701T065009Z
UID:7681-1469300400-1469304000@arkiv.gratisuppsala.se
SUMMARY:Musik i Funbo kyrka: En resa genom musiklyrikens vackra värld...
DESCRIPTION:Musik vid helgsmål\, där Annie Nilsson-Tengstrand\, tvärflöjt och Arne Tengstrand\, piano bjuder på en resa genom musiklyrikens vackra värld\, från klassiskt till jazz\, filmmusik och egna kompositioner. \nFunbo kyrka lördag 23 juli kl 18.00. \nFritt inträde. \nVälkomna! \nDela evenemanget
URL:https://arkiv.gratisuppsala.se/event/musik-funbo-kyrka-en-resa-genom-musiklyrikens-vackra-varld/
LOCATION:Funbo kyrka\, Funbo\, Uppsala\, 75597\, Sverige
CATEGORIES:Sång och Musik
ATTACH;FMTTYPE=image/jpeg:https://arkiv.gratisuppsala.se/wp-content/uploads/2015/07/ladda-ned1-e1438768917658.jpg
GEO:59.8554449;17.8536407
X-APPLE-STRUCTURED-LOCATION;VALUE=URI;X-ADDRESS=Funbo kyrka Funbo Uppsala 75597 Sverige;X-APPLE-RADIUS=500;X-TITLE=Funbo:geo:17.8536407,59.8554449
END:VEVENT
END:VCALENDAR