BEGIN:VCALENDAR
VERSION:2.0
PRODID:-//Gratis Uppsala - ECPv5.2.1//NONSGML v1.0//EN
CALSCALE:GREGORIAN
METHOD:PUBLISH
X-WR-CALNAME:Gratis Uppsala
X-ORIGINAL-URL:https://arkiv.gratisuppsala.se
X-WR-CALDESC:Händelser för Gratis Uppsala
BEGIN:VTIMEZONE
TZID:Europe/Stockholm
BEGIN:DAYLIGHT
TZOFFSETFROM:+0100
TZOFFSETTO:+0200
TZNAME:CEST
DTSTART:20160327T010000
END:DAYLIGHT
BEGIN:STANDARD
TZOFFSETFROM:+0200
TZOFFSETTO:+0100
TZNAME:CET
DTSTART:20161030T010000
END:STANDARD
END:VTIMEZONE
BEGIN:VEVENT
DTSTART;TZID=Europe/Stockholm:20160619T200000
DTEND;TZID=Europe/Stockholm:20160619T210000
DTSTAMP:20260423T114531
CREATED:20160428T074833Z
LAST-MODIFIED:20160428T074833Z
UID:6868-1466366400-1466370000@arkiv.gratisuppsala.se
SUMMARY:Musik och poesi på Sigtunastiftelsen - Det som ger hoppet liv.
DESCRIPTION:Det som ger hoppet liv\nEtt program med två gitarrer och några dikter\n\n\nKom och lyssna till klassiskt gitarrspel och poesi med Siddhi Johan Sundt\, solist\, kammarmusiker och tonsättare och Lars Björklund\, poet\, föreläsare och kaplan på Sigtunastiftelsen. Olaus Petris kapell\, fri entré. \n\n Dela evenemanget
URL:https://arkiv.gratisuppsala.se/event/musik-och-poesi-pa-sigtunastiftelsen-det-som-ger-hoppet-liv/
LOCATION:Sigtunastiftelsen\, Manfred Björkquists allé 4\, Sigtuna\, Sverige
CATEGORIES:Sång och Musik
GEO:59.6158714;17.7101321
X-APPLE-STRUCTURED-LOCATION;VALUE=URI;X-ADDRESS=Sigtunastiftelsen Manfred Björkquists allé 4 Sigtuna Sverige;X-APPLE-RADIUS=500;X-TITLE=Manfred Björkquists allé 4:geo:17.7101321,59.6158714
END:VEVENT
END:VCALENDAR