BEGIN:VCALENDAR
VERSION:2.0
PRODID:-//Gratis Uppsala - ECPv5.2.1//NONSGML v1.0//EN
CALSCALE:GREGORIAN
METHOD:PUBLISH
X-WR-CALNAME:Gratis Uppsala
X-ORIGINAL-URL:https://arkiv.gratisuppsala.se
X-WR-CALDESC:Händelser för Gratis Uppsala
BEGIN:VTIMEZONE
TZID:Europe/Stockholm
BEGIN:DAYLIGHT
TZOFFSETFROM:+0100
TZOFFSETTO:+0200
TZNAME:CEST
DTSTART:20160327T010000
END:DAYLIGHT
BEGIN:STANDARD
TZOFFSETFROM:+0200
TZOFFSETTO:+0100
TZNAME:CET
DTSTART:20161030T010000
END:STANDARD
END:VTIMEZONE
BEGIN:VEVENT
DTSTART;TZID=Europe/Stockholm:20161109T190000
DTEND;TZID=Europe/Stockholm:20161109T200000
DTSTAMP:20260419T221432
CREATED:20160803T073727Z
LAST-MODIFIED:20160919T084550Z
UID:7906-1478718000-1478721600@arkiv.gratisuppsala.se
SUMMARY:Musik och poesi på Sigtunastiftelsen - Strax intill.
DESCRIPTION:Reflekterande recitation om tro\, tvivel\, samhälle och etik av och med skådespelaren Anders Ahlbom-Rosendahl Sång: Hanan Khalil Jdeaini och Anna-Lena Engström \nDela evenemanget
URL:https://arkiv.gratisuppsala.se/event/musik-och-poesi-pa-sigtunastiftelsen-strax-intill/
LOCATION:Sigtunastiftelsen\, Manfred Björkqvists allé 4\, Sigtuna
CATEGORIES:Kropp och Själ,Sång och Musik
ORGANIZER;CN="Sigtunastiftelsen":MAILTO:info@sigtunastiftelsen.se
GEO:59.6158714;17.7101321
X-APPLE-STRUCTURED-LOCATION;VALUE=URI;X-ADDRESS=Sigtunastiftelsen Manfred Björkqvists allé 4 Sigtuna;X-APPLE-RADIUS=500;X-TITLE=Manfred Björkqvists allé 4:geo:17.7101321,59.6158714
END:VEVENT
END:VCALENDAR