BEGIN:VCALENDAR
VERSION:2.0
PRODID:-//Gratis Uppsala - ECPv5.2.1//NONSGML v1.0//EN
CALSCALE:GREGORIAN
METHOD:PUBLISH
X-WR-CALNAME:Gratis Uppsala
X-ORIGINAL-URL:https://arkiv.gratisuppsala.se
X-WR-CALDESC:Händelser för Gratis Uppsala
BEGIN:VTIMEZONE
TZID:Europe/Stockholm
BEGIN:DAYLIGHT
TZOFFSETFROM:+0100
TZOFFSETTO:+0200
TZNAME:CEST
DTSTART:20170326T010000
END:DAYLIGHT
BEGIN:STANDARD
TZOFFSETFROM:+0200
TZOFFSETTO:+0100
TZNAME:CET
DTSTART:20171029T010000
END:STANDARD
END:VTIMEZONE
BEGIN:VEVENT
DTSTART;TZID=Europe/Stockholm:20170419T200000
DTEND;TZID=Europe/Stockholm:20170419T210000
DTSTAMP:20260420T124144
CREATED:20170131T102737Z
LAST-MODIFIED:20170412T103246Z
UID:11146-1492632000-1492635600@arkiv.gratisuppsala.se
SUMMARY:Musik och recitation på Sigtunastiftelsen - Strax intill
DESCRIPTION:Musik och recitation av Anders Ahlbom i Olaus Petri-kapellet\n  \n\n\nVälkommen till en kväll i Olaus Petri-kapellet där skådespelaren Anders Ahlbom-Rosendahl ger en föreställning med reflekterande monologteater om tro\, tvivel\, samhälle och etik. Texterna ramas in med sång av Hanan Khalil Jdeaini och Anna-Lena Engström.\n\n\nTid och plats\nOnsdag 19 april kl 19-20\nOlaus Petri-kapellet\, Sigtunastiftelsen\n\n\nFör att anmäla dig klicka här: https://dinkurs.se/appliance/?event_id=43472 \n  \nBegränsat antal platser. \n  \nBilden hämtad från Google bilder \n\n Dela evenemanget
URL:https://arkiv.gratisuppsala.se/event/musik-och-recitation-pa-sigtunastiftelsen-strax-intill/
LOCATION:Sigtunastiftelsen\, Manfred Björkqvist allé 4\, Sigtuna\, 19322
CATEGORIES:Sång och Musik,Teater och Bio
ATTACH;FMTTYPE=image/jpeg:https://arkiv.gratisuppsala.se/wp-content/uploads/2017/01/Olaus-Petri-kapellet-Sigtunastiftelsen.jpg
ORGANIZER;CN="Sigtunastiftelsen":MAILTO:info@sigtunastiftelsen.se
END:VEVENT
END:VCALENDAR