BEGIN:VCALENDAR
VERSION:2.0
PRODID:-//Gratis Uppsala - ECPv5.2.1//NONSGML v1.0//EN
CALSCALE:GREGORIAN
METHOD:PUBLISH
X-WR-CALNAME:Gratis Uppsala
X-ORIGINAL-URL:https://arkiv.gratisuppsala.se
X-WR-CALDESC:Händelser för Gratis Uppsala
BEGIN:VTIMEZONE
TZID:Europe/Stockholm
BEGIN:DAYLIGHT
TZOFFSETFROM:+0100
TZOFFSETTO:+0200
TZNAME:CEST
DTSTART:20160327T010000
END:DAYLIGHT
BEGIN:STANDARD
TZOFFSETFROM:+0200
TZOFFSETTO:+0100
TZNAME:CET
DTSTART:20161030T010000
END:STANDARD
END:VTIMEZONE
BEGIN:VEVENT
DTSTART;TZID=Europe/Stockholm:20160618T190000
DTEND;TZID=Europe/Stockholm:20160618T201500
DTSTAMP:20260421T124355
CREATED:20160616T132510Z
LAST-MODIFIED:20160616T134104Z
UID:7531-1466276400-1466280900@arkiv.gratisuppsala.se
SUMMARY:Musik vid helgsmål: Fransk sommarkväll
DESCRIPTION:Duo Hästbacka Persson (Linn Persson\, saxofon och Christopher Hästbacka\, piano) spelar musik av bland andra Maurice\, Debussy och Decruck. \nFunbo kyrka lördag 18 juni kl 18.00. \nFritt inträde. \nVälkomna! \nDela evenemanget
URL:https://arkiv.gratisuppsala.se/event/musik-vid-helgsmal-fransk-sommarkvall/
LOCATION:Funbo kyrka\, Funbo\, Uppsala\, 75597\, Sverige
CATEGORIES:Sång och Musik
ATTACH;FMTTYPE=image/jpeg:https://arkiv.gratisuppsala.se/wp-content/uploads/2015/11/saxofon.jpg
GEO:59.8554449;17.8536407
X-APPLE-STRUCTURED-LOCATION;VALUE=URI;X-ADDRESS=Funbo kyrka Funbo Uppsala 75597 Sverige;X-APPLE-RADIUS=500;X-TITLE=Funbo:geo:17.8536407,59.8554449
END:VEVENT
END:VCALENDAR