BEGIN:VCALENDAR
VERSION:2.0
PRODID:-//Gratis Uppsala - ECPv5.2.1//NONSGML v1.0//EN
CALSCALE:GREGORIAN
METHOD:PUBLISH
X-WR-CALNAME:Gratis Uppsala
X-ORIGINAL-URL:https://arkiv.gratisuppsala.se
X-WR-CALDESC:Händelser för Gratis Uppsala
BEGIN:VTIMEZONE
TZID:Europe/Stockholm
BEGIN:DAYLIGHT
TZOFFSETFROM:+0100
TZOFFSETTO:+0200
TZNAME:CEST
DTSTART:20160327T010000
END:DAYLIGHT
BEGIN:STANDARD
TZOFFSETFROM:+0200
TZOFFSETTO:+0100
TZNAME:CET
DTSTART:20161030T010000
END:STANDARD
END:VTIMEZONE
BEGIN:VEVENT
DTSTART;TZID=Europe/Stockholm:20161120T180000
DTEND;TZID=Europe/Stockholm:20161120T190000
DTSTAMP:20260420T141706
CREATED:20161118T131236Z
LAST-MODIFIED:20161118T131236Z
UID:9435-1479664800-1479668400@arkiv.gratisuppsala.se
SUMMARY:Musikcafe'
DESCRIPTION:Musikcafe’ i församlingshemmet vid Funbo Kyrka. En liten stund med Lina. Prästen\, författaren och sångskaparen\, Per Harling sjunger och berättar om Lina Sandell och hennes psalmer i psalmboken. Fika och tilltugg till självkostnadspris \nDela evenemanget
URL:https://arkiv.gratisuppsala.se/event/musikcafe/
LOCATION:Funbo församlingshem (intill Funbo kyrka)\, Funbo\, Uppsala\, 75597
CATEGORIES:Sång och Musik
ATTACH;FMTTYPE=image/jpeg:https://arkiv.gratisuppsala.se/wp-content/uploads/2015/07/ladda-ned1-e1438768917658.jpg
END:VEVENT
END:VCALENDAR