BEGIN:VCALENDAR
VERSION:2.0
PRODID:-//Gratis Uppsala - ECPv5.2.1//NONSGML v1.0//EN
CALSCALE:GREGORIAN
METHOD:PUBLISH
X-WR-CALNAME:Gratis Uppsala
X-ORIGINAL-URL:https://arkiv.gratisuppsala.se
X-WR-CALDESC:Händelser för Gratis Uppsala
BEGIN:VTIMEZONE
TZID:Europe/Stockholm
BEGIN:DAYLIGHT
TZOFFSETFROM:+0100
TZOFFSETTO:+0200
TZNAME:CEST
DTSTART:20160327T010000
END:DAYLIGHT
BEGIN:STANDARD
TZOFFSETFROM:+0200
TZOFFSETTO:+0100
TZNAME:CET
DTSTART:20161030T010000
END:STANDARD
END:VTIMEZONE
BEGIN:VEVENT
DTSTART;TZID=Europe/Stockholm:20161026T180000
DTEND;TZID=Europe/Stockholm:20161026T184500
DTSTAMP:20260420T041109
CREATED:20161020T064518Z
LAST-MODIFIED:20161020T071153Z
UID:9010-1477504800-1477507500@arkiv.gratisuppsala.se
SUMMARY:Musikjam
DESCRIPTION:Kom och sjung eller spela gitarr\, bas eller trummor! Du får tips på hur du kan bli bättre\, lära dig låtar och spela med andra under ledning av ungdomsmusiker Anders Emtell. \nÖppet för alla oavsett förkunskaper! \nDela evenemanget
URL:https://arkiv.gratisuppsala.se/event/musikjam/
LOCATION:Salabackekyrkan\, Lästmakargatan 7B\, Uppsala\, 75434\, Sverige
CATEGORIES:Religion
ATTACH;FMTTYPE=image/jpeg:https://arkiv.gratisuppsala.se/wp-content/uploads/2016/10/salabackekyrkan_mot_bla_himmel.jpg
END:VEVENT
END:VCALENDAR