BEGIN:VCALENDAR
VERSION:2.0
PRODID:-//Gratis Uppsala - ECPv5.2.1//NONSGML v1.0//EN
CALSCALE:GREGORIAN
METHOD:PUBLISH
X-WR-CALNAME:Gratis Uppsala
X-ORIGINAL-URL:https://arkiv.gratisuppsala.se
X-WR-CALDESC:Händelser för Gratis Uppsala
BEGIN:VTIMEZONE
TZID:Europe/Stockholm
BEGIN:DAYLIGHT
TZOFFSETFROM:+0100
TZOFFSETTO:+0200
TZNAME:CEST
DTSTART:20150329T010000
END:DAYLIGHT
BEGIN:STANDARD
TZOFFSETFROM:+0200
TZOFFSETTO:+0100
TZNAME:CET
DTSTART:20151025T010000
END:STANDARD
END:VTIMEZONE
BEGIN:VEVENT
DTSTART;TZID=Europe/Stockholm:20151202T190000
DTEND;TZID=Europe/Stockholm:20151202T201500
DTSTAMP:20260419T230352
CREATED:20151113T102746Z
LAST-MODIFIED:20151113T102746Z
UID:4632-1449082800-1449087300@arkiv.gratisuppsala.se
SUMMARY:När dagen blir mörk\, konsert med Uppsala Vokalensemble
DESCRIPTION:När dagen blir mörk\nUppsala Vokalensemble sjunger svensk och rysk julmusik i Almtunakyrkan. \n\nOnsdag 2 december klockan 19.00. \nFri entré\, men ta gärna med en slant till kollekten. \nKonserten ingår i höstens konsertserie Andrum i Almtunakyrkan. Andrum ska ge rum för tanke och kontemplation till högkvalitativ musik\, själens språk. \n\n Dela evenemanget
URL:https://arkiv.gratisuppsala.se/event/nar-dagen-blir-mork-konsert-med-uppsala-vokalensemble/
LOCATION:Almtunakyrkan\, Torkelsgatan 2D\, Uppsala\, Uppsala
CATEGORIES:Sång och Musik
END:VEVENT
END:VCALENDAR