BEGIN:VCALENDAR
VERSION:2.0
PRODID:-//Gratis Uppsala - ECPv5.2.1//NONSGML v1.0//EN
CALSCALE:GREGORIAN
METHOD:PUBLISH
X-WR-CALNAME:Gratis Uppsala
X-ORIGINAL-URL:https://arkiv.gratisuppsala.se
X-WR-CALDESC:Händelser för Gratis Uppsala
BEGIN:VTIMEZONE
TZID:Europe/Stockholm
BEGIN:DAYLIGHT
TZOFFSETFROM:+0100
TZOFFSETTO:+0200
TZNAME:CEST
DTSTART:20180325T010000
END:DAYLIGHT
BEGIN:STANDARD
TZOFFSETFROM:+0200
TZOFFSETTO:+0100
TZNAME:CET
DTSTART:20181028T010000
END:STANDARD
END:VTIMEZONE
BEGIN:VEVENT
DTSTART;TZID=Europe/Stockholm:20180411T190000
DTEND;TZID=Europe/Stockholm:20180411T210000
DTSTAMP:20260421T120213
CREATED:20180212T092809Z
LAST-MODIFIED:20180212T092809Z
UID:22480-1523473200-1523480400@arkiv.gratisuppsala.se
SUMMARY:När tålamodet tryter – vad du kan göra som förälder
DESCRIPTION:När tålamodet tryter – vad du kan göra som förälder\nIbland är vi inte de föräldrar vi vill vara. Vi blir för arga\, tappar tålamodet och ibland också kontrollen. Paulina Rodriguez Milovic\, psykolog som har arbetat med barn\, ungdomar och deras familjer i snart femton år\, ger en introduktion till hur du lågaffektivt kan hitta nya sätt att bemöta ditt barn och få tillgång till andra perspektiv som kan hjälpa dig i ditt föräldraskap. \nTid och plats \nOnsdag 11 april\nKlockan 18-20\nPå BOiU\, Drottninggatan 8\, Uppsala \nBild från pixabay.com \n  \nDela evenemanget
URL:https://arkiv.gratisuppsala.se/event/nar-talamodet-tryter-vad-du-kan-gora-som-foralder/
LOCATION:BOIU\, Drottninggatan 8\, Uppsala\, 753 10\, Sverige
CATEGORIES:Föreläsning och Kurs
ATTACH;FMTTYPE=image/jpeg:https://arkiv.gratisuppsala.se/wp-content/uploads/2017/01/parents-and-children-1794951_960_720.jpg
ORGANIZER;CN="BOIU":MAILTO:boiu@boiu.se
GEO:59.8571435;17.6360141
X-APPLE-STRUCTURED-LOCATION;VALUE=URI;X-ADDRESS=BOIU Drottninggatan 8 Uppsala 753 10 Sverige;X-APPLE-RADIUS=500;X-TITLE=Drottninggatan 8:geo:17.6360141,59.8571435
END:VEVENT
END:VCALENDAR