BEGIN:VCALENDAR
VERSION:2.0
PRODID:-//Gratis Uppsala - ECPv5.2.1//NONSGML v1.0//EN
CALSCALE:GREGORIAN
METHOD:PUBLISH
X-WR-CALNAME:Gratis Uppsala
X-ORIGINAL-URL:https://arkiv.gratisuppsala.se
X-WR-CALDESC:Händelser för Gratis Uppsala
BEGIN:VTIMEZONE
TZID:Europe/Stockholm
BEGIN:DAYLIGHT
TZOFFSETFROM:+0100
TZOFFSETTO:+0200
TZNAME:CEST
DTSTART:20180325T010000
END:DAYLIGHT
BEGIN:STANDARD
TZOFFSETFROM:+0200
TZOFFSETTO:+0100
TZNAME:CET
DTSTART:20181028T010000
END:STANDARD
END:VTIMEZONE
BEGIN:VEVENT
DTSTART;TZID=Europe/Stockholm:20180926T190000
DTEND;TZID=Europe/Stockholm:20180926T210000
DTSTAMP:20260420T162747
CREATED:20180925T214641Z
LAST-MODIFIED:20180925T214641Z
UID:29903-1537988400-1537995600@arkiv.gratisuppsala.se
SUMMARY:Föreläsning: På nätet utan gränser
DESCRIPTION:Föreläsning onsdag 26 september kl 18–20\nVem är vän på internet… och vilka är varningstecknen? \nJill C. Faulkner berättar om hur det är att växa upp med autism och vara ung på nätet. Vilka är för- och nackdelarna och vilken roll spelar nätet när det kommer till den sociala utvecklingen för många med neuropsykiatrisk funktionsnedsättning (NPF)? \nFri entré.\nHörslinga finns. \nAlla intresserade är varmt välkomna! \nDatum och tid: 26 september kl 18:00-20:00 \nPlats: Infoteket om funktionshinder\, Kungsgärdets center\,\nS:t Johannesgatan 28 D\, Uppsala\nSå här hittar du till Infoteket (länk till Google) \nAnmälan till: infoteket@regionuppsala.se eller 018-611 66 77. \nArrangör: Infoteket \n  \n\nMer information: Infoteket \nBild: pixabay.com \nDela evenemanget
URL:https://arkiv.gratisuppsala.se/event/natet-utan-granser-forelasning/
LOCATION:Infoteket om funktionshinder\, S:t Johannesgatan 28 D\, Uppsala\, 752 33\, Sverige
CATEGORIES:För anhöriga,Föreläsning och Kurs,Funktionsvariationer,Kunskap och Lärande,Ungdom,Vuxen
ATTACH;FMTTYPE=image/jpeg:https://arkiv.gratisuppsala.se/wp-content/uploads/2018/09/earth-2254769_640.jpg
ORGANIZER;CN="Infoteket%20om%20funktionshinder":MAILTO:infoteket@lul.se
GEO:59.8553013;17.6213622
X-APPLE-STRUCTURED-LOCATION;VALUE=URI;X-ADDRESS=Infoteket om funktionshinder S:t Johannesgatan 28 D Uppsala 752 33 Sverige;X-APPLE-RADIUS=500;X-TITLE=S:t Johannesgatan 28 D:geo:17.6213622,59.8553013
END:VEVENT
END:VCALENDAR