BEGIN:VCALENDAR
VERSION:2.0
PRODID:-//Gratis Uppsala - ECPv5.2.1//NONSGML v1.0//EN
CALSCALE:GREGORIAN
METHOD:PUBLISH
X-WR-CALNAME:Gratis Uppsala
X-ORIGINAL-URL:https://arkiv.gratisuppsala.se
X-WR-CALDESC:Händelser för Gratis Uppsala
BEGIN:VTIMEZONE
TZID:Europe/Stockholm
BEGIN:DAYLIGHT
TZOFFSETFROM:+0100
TZOFFSETTO:+0200
TZNAME:CEST
DTSTART:20170326T010000
END:DAYLIGHT
BEGIN:STANDARD
TZOFFSETFROM:+0200
TZOFFSETTO:+0100
TZNAME:CET
DTSTART:20171029T010000
END:STANDARD
END:VTIMEZONE
BEGIN:VEVENT
DTSTART;TZID=Europe/Stockholm:20170606T110000
DTEND;TZID=Europe/Stockholm:20170606T160000
DTSTAMP:20260421T121902
CREATED:20170531T085148Z
LAST-MODIFIED:20170531T085148Z
UID:14414-1496746800-1496764800@arkiv.gratisuppsala.se
SUMMARY:Nationaldagen på Uppsala katthem
DESCRIPTION:Nationaldagen på Uppsala katthem\nKatthemmet Samvetet hälsar välkomna för nationaldagsfirande på katthemmet\nLotterier\, försäljning\, loppis\, grillning\, ansiktsmålning\, fiskdamm\, tipspromenad m.m.\nRådfråga veterinär från Ekebys Djurpraktik klockan 11.00-14.00 (medtag ej djur).\nTräffa de charmiga minigrisarna Sonny och Roger klockan 12.00-14.00.\nPrata försäkring med representant från försäkringsbolaget Agria.\nKatthemmet bjuder på fika. \nFör mer information\, gå in på Katthemmets nationaldagsevenemang på Facebook. \nNär: Tisdag 6 juni klockan 10.00-15.00\nVar: Katthemmet Samvetet i Jälla \nFritt inträde. \nBild från pixabay.com samt wikimedia.org/ \nDela evenemanget
URL:https://arkiv.gratisuppsala.se/event/nationaldagen-pa-uppsala-katthem/
LOCATION:Uppsala Katthem\, Jälla 205\, Jälla\, 75594\, Sverige
CATEGORIES:Nationaldagen
ATTACH;FMTTYPE=image/jpeg:https://arkiv.gratisuppsala.se/wp-content/uploads/2017/05/cat-1979438_960_720.jpg
ORGANIZER;CN="Uppsala%20katthem":MAILTO:katthem@samvetet.com
GEO:59.9032601;17.7148997
X-APPLE-STRUCTURED-LOCATION;VALUE=URI;X-ADDRESS=Uppsala Katthem Jälla 205 Jälla 75594 Sverige;X-APPLE-RADIUS=500;X-TITLE=Jälla 205:geo:17.7148997,59.9032601
END:VEVENT
END:VCALENDAR