BEGIN:VCALENDAR
VERSION:2.0
PRODID:-//Gratis Uppsala - ECPv5.2.1//NONSGML v1.0//EN
CALSCALE:GREGORIAN
METHOD:PUBLISH
X-WR-CALNAME:Gratis Uppsala
X-ORIGINAL-URL:https://arkiv.gratisuppsala.se
X-WR-CALDESC:Händelser för Gratis Uppsala
BEGIN:VTIMEZONE
TZID:Europe/Stockholm
BEGIN:DAYLIGHT
TZOFFSETFROM:+0100
TZOFFSETTO:+0200
TZNAME:CEST
DTSTART:20160327T010000
END:DAYLIGHT
BEGIN:STANDARD
TZOFFSETFROM:+0200
TZOFFSETTO:+0100
TZNAME:CET
DTSTART:20161030T010000
END:STANDARD
END:VTIMEZONE
BEGIN:VEVENT
DTSTART;TZID=Europe/Stockholm:20161008T130000
DTEND;TZID=Europe/Stockholm:20161008T153000
DTSTAMP:20260419T173453
CREATED:20161007T082152Z
LAST-MODIFIED:20161007T082152Z
UID:8770-1475931600-1475940600@arkiv.gratisuppsala.se
SUMMARY:Naturens Pärlor: Gör fina saker
DESCRIPTION:Använd dig av naturens pärlor för att göra vackra saker! \nPyssla med Sara Hildebrandt på Gränbydagen. \nDrop-in 12-14:30 på Gränbybiblioteket. \nIngen föranmälan. \nDela evenemanget
URL:https://arkiv.gratisuppsala.se/event/naturens-parlor-gor-fina-saker/
LOCATION:Gränbybiblioteket\, Liljeforstorg 1\, Uppsala\, 754 29\, Sverige
ATTACH;FMTTYPE=image/jpeg:https://arkiv.gratisuppsala.se/wp-content/uploads/2016/10/naturer.jpg
GEO:59.8718525;17.6582693
X-APPLE-STRUCTURED-LOCATION;VALUE=URI;X-ADDRESS=Gränbybiblioteket Liljeforstorg 1 Uppsala 754 29 Sverige;X-APPLE-RADIUS=500;X-TITLE=Liljeforstorg 1:geo:17.6582693,59.8718525
END:VEVENT
END:VCALENDAR