BEGIN:VCALENDAR
VERSION:2.0
PRODID:-//Gratis Uppsala - ECPv5.2.1//NONSGML v1.0//EN
CALSCALE:GREGORIAN
METHOD:PUBLISH
X-WR-CALNAME:Gratis Uppsala
X-ORIGINAL-URL:https://arkiv.gratisuppsala.se
X-WR-CALDESC:Händelser för Gratis Uppsala
BEGIN:VTIMEZONE
TZID:Europe/Stockholm
BEGIN:DAYLIGHT
TZOFFSETFROM:+0100
TZOFFSETTO:+0200
TZNAME:CEST
DTSTART:20160327T010000
END:DAYLIGHT
BEGIN:STANDARD
TZOFFSETFROM:+0200
TZOFFSETTO:+0100
TZNAME:CET
DTSTART:20161030T010000
END:STANDARD
END:VTIMEZONE
BEGIN:VEVENT
DTSTART;TZID=Europe/Stockholm:20160511T213000
DTEND;TZID=Europe/Stockholm:20160512T003000
DTSTAMP:20260420T081307
CREATED:20160511T104249Z
LAST-MODIFIED:20160511T104249Z
UID:6951-1463002200-1463013000@arkiv.gratisuppsala.se
SUMMARY:Nemis 11 maj Uppsala - Ordos + Gigafauna
DESCRIPTION:Under 2016 fortsätter klubb Nemis lyfta fram ett antal lokala akter från Uppsala län som är värda att uppmärksammas.\nOnsdag 11maj värmer Nemis upp med lite tyngre rockmusik inför sommarens många festivaler och gästas av Ordos (Ua) och Gigafauna (Ua). \nUr Centre of Gravitys aska reser sig GIGAFAUNA. Bandet spelar tung\, dynamisk metal som rör sig i gränslandet mellan hårdrockens catchiga sida och metalmusikens mer extrema gränser med sina rytmiska och melodiska utmaningar. På Nemis ges vi ett smakprov från gruppens kommande platta som spelas in till hösten. \nORDOS ger oss tung solid rockmusik med stonerinspirerade riff.\nMed en ny fullängdare i bagaget gör sig gruppen åter redo att kravla sig upp ur Studio Underjord för att leverera ett aggressivt\, infernaliskt gig med minutlånga vrål. \nDela evenemanget
URL:https://arkiv.gratisuppsala.se/event/nemis-11-maj-uppsala-ordos-gigafauna/
LOCATION:Bistro Cousteau\, Drottninggatan 12\, Uppsala\, Sverige
CATEGORIES:Sång och Musik
ATTACH;FMTTYPE=image/jpeg:https://arkiv.gratisuppsala.se/wp-content/uploads/2016/05/NemisOrdosGigafauna.jpg
ORGANIZER;CN="Nemis%20Uppsala":MAILTO:musik@studieframjandet.se
GEO:59.8566825;17.6350078
X-APPLE-STRUCTURED-LOCATION;VALUE=URI;X-ADDRESS=Bistro Cousteau Drottninggatan 12 Uppsala Sverige;X-APPLE-RADIUS=500;X-TITLE=Drottninggatan 12:geo:17.6350078,59.8566825
END:VEVENT
END:VCALENDAR