BEGIN:VCALENDAR
VERSION:2.0
PRODID:-//Gratis Uppsala - ECPv5.2.1//NONSGML v1.0//EN
CALSCALE:GREGORIAN
METHOD:PUBLISH
X-WR-CALNAME:Gratis Uppsala
X-ORIGINAL-URL:https://arkiv.gratisuppsala.se
X-WR-CALDESC:Händelser för Gratis Uppsala
BEGIN:VTIMEZONE
TZID:Europe/Stockholm
BEGIN:DAYLIGHT
TZOFFSETFROM:+0100
TZOFFSETTO:+0200
TZNAME:CEST
DTSTART:20150329T010000
END:DAYLIGHT
BEGIN:STANDARD
TZOFFSETFROM:+0200
TZOFFSETTO:+0100
TZNAME:CET
DTSTART:20151025T010000
END:STANDARD
END:VTIMEZONE
BEGIN:VEVENT
DTSTART;TZID=Europe/Stockholm:20151106T100000
DTEND;TZID=Europe/Stockholm:20151106T180000
DTSTAMP:20260419T201244
CREATED:20151102T094745Z
LAST-MODIFIED:20151102T094745Z
UID:4398-1446804000-1446832800@arkiv.gratisuppsala.se
SUMMARY:Nordiskt ljus i olja
DESCRIPTION:Utställning i Galleriet hos Uppsala Handkraft\, Jan Vaher; Nordiskt ljus i olja. \nFredag 6 november öppet kl 10-18. \nUppsala Handkraft säljer hemslöjd och konsthantverk\, hantverksprodukterna är unika och både traditionella och nyskapande. \nUtställningen pågår till 12/11. \nBild: http://uppsalahandkraft.se/ \n  \nDela evenemanget
URL:https://arkiv.gratisuppsala.se/event/nordiskt-ljus-i-olja/
LOCATION:Uppsala Handkraft\, Sysslomansgatan 6\, Uppsala\, 753 11 \, Sverige
CATEGORIES:Konst, Fotografi och Design,Utställning
ATTACH;FMTTYPE=image/jpeg:https://arkiv.gratisuppsala.se/wp-content/uploads/2015/11/Handkraft-e1446457465908.jpg
GEO:59.8596718;17.6311382
X-APPLE-STRUCTURED-LOCATION;VALUE=URI;X-ADDRESS=Uppsala Handkraft Sysslomansgatan 6 Uppsala 753 11  Sverige;X-APPLE-RADIUS=500;X-TITLE=Sysslomansgatan 6:geo:17.6311382,59.8596718
END:VEVENT
END:VCALENDAR