BEGIN:VCALENDAR
VERSION:2.0
PRODID:-//Gratis Uppsala - ECPv5.2.1//NONSGML v1.0//EN
CALSCALE:GREGORIAN
METHOD:PUBLISH
X-WR-CALNAME:Gratis Uppsala
X-ORIGINAL-URL:https://arkiv.gratisuppsala.se
X-WR-CALDESC:Händelser för Gratis Uppsala
BEGIN:VTIMEZONE
TZID:Europe/Stockholm
BEGIN:DAYLIGHT
TZOFFSETFROM:+0100
TZOFFSETTO:+0200
TZNAME:CEST
DTSTART:20160327T010000
END:DAYLIGHT
BEGIN:STANDARD
TZOFFSETFROM:+0200
TZOFFSETTO:+0100
TZNAME:CET
DTSTART:20161030T010000
END:STANDARD
END:VTIMEZONE
BEGIN:VEVENT
DTSTART;TZID=Europe/Stockholm:20161105T090000
DTEND;TZID=Europe/Stockholm:20161106T120000
DTSTAMP:20260420T212821
CREATED:20161024T065626Z
LAST-MODIFIED:20161024T065626Z
UID:9032-1478336400-1478433600@arkiv.gratisuppsala.se
SUMMARY:Novemberkåsan - Sveriges äldsta motorcykeltävling
DESCRIPTION:Novemberkåsan är Sveriges äldsta och mest kända motorcykeltävling. Den kördes första gången 1915 och har körts varje år utom några år under världskrigen och 1967 då de bytte från vänster till högertrafik. I år är det SMK Uppsalas tur igen att arrangera Novemberkåsan. Första gången SMK Uppsala arrangerade Novemberkåsan var 1924. \nSedan har klubben arrangerat Novemberkåsan vart 10:e år med början 1936\, 1946\, 1956\, 1966\, 1976\, 1986\, 1996\, 2006 och nu 2016. Det blir 10:e gången för SMK Uppsala. \nDag etappen startar 09.01\, medan nattetappen startar 17.01 med sammandraget startfält \nTid: lördag 05 november kl 09:00 – söndag 06 november kl 12:00\nPlats: Knivsta tätort med omnejd \nFör mer information: http://www.novemberkasan2016.se/ \nDela evenemanget
URL:https://arkiv.gratisuppsala.se/event/novemberkasan-sveriges-aldsta-motorcykeltavling/
ATTACH;FMTTYPE=image/jpeg:https://arkiv.gratisuppsala.se/wp-content/uploads/2016/10/wooden-motorcycle-253555_960_720.jpg
ORGANIZER;CN="SMK%20Uppsala":MAILTO:bodefjall@gmail.com
END:VEVENT
END:VCALENDAR