BEGIN:VCALENDAR
VERSION:2.0
PRODID:-//Gratis Uppsala - ECPv5.2.1//NONSGML v1.0//EN
CALSCALE:GREGORIAN
METHOD:PUBLISH
X-WR-CALNAME:Gratis Uppsala
X-ORIGINAL-URL:https://arkiv.gratisuppsala.se
X-WR-CALDESC:Händelser för Gratis Uppsala
BEGIN:VTIMEZONE
TZID:Europe/Stockholm
BEGIN:DAYLIGHT
TZOFFSETFROM:+0100
TZOFFSETTO:+0200
TZNAME:CEST
DTSTART:20160327T010000
END:DAYLIGHT
BEGIN:STANDARD
TZOFFSETFROM:+0200
TZOFFSETTO:+0100
TZNAME:CET
DTSTART:20161030T010000
END:STANDARD
END:VTIMEZONE
BEGIN:VEVENT
DTSTART;TZID=Europe/Stockholm:20160309T180000
DTEND;TZID=Europe/Stockholm:20160309T200000
DTSTAMP:20260422T015428
CREATED:20160113T095618Z
LAST-MODIFIED:20160113T095618Z
UID:5772-1457546400-1457553600@arkiv.gratisuppsala.se
SUMMARY:Nyanländas väg in på arbetsmarknaden
DESCRIPTION:– Hur kan vi snabba på etableringen av nyanlända?\n– Vad gör Arbetsförmedlingen? Vilka insatser gör de inom ramen för etableringstiden?\n– Vad gör kommunen? Hur fungerar SFI?\n– Vem ansvarar för vad inom etableringsverksamheten?\n– Hur lång är etableringstiden?\n– Hur många nyanlända är självförsörjande efter avslutad etablering? \nFöreläsare:\nUlrik Wärnsberg (s) – Ordförande för Arbetsmarknadsnämnden Uppsala Kommun.\nLotta Königsson – avdelningschef för vuxenutbildning\, Arbetsmarknadsförvaltningen\, Uppsala Kommun.\nElke Lehmann – sektionschef på Arbetsförmedlingen för Etableringen Uppsala län \nVarmt Välkomna! \nDela evenemanget
URL:https://arkiv.gratisuppsala.se/event/nyanlandas-vag-in-pa-arbetsmarknaden/
LOCATION:ABF i Uppsala län\, S:t Persgatan 22 B\, Uppsala\, 753 29\, Sverige
GEO:59.8618076;17.6424759
X-APPLE-STRUCTURED-LOCATION;VALUE=URI;X-ADDRESS=ABF i Uppsala län S:t Persgatan 22 B Uppsala 753 29 Sverige;X-APPLE-RADIUS=500;X-TITLE=S:t Persgatan 22 B:geo:17.6424759,59.8618076
END:VEVENT
END:VCALENDAR