BEGIN:VCALENDAR
VERSION:2.0
PRODID:-//Gratis Uppsala - ECPv5.2.1//NONSGML v1.0//EN
CALSCALE:GREGORIAN
METHOD:PUBLISH
X-WR-CALNAME:Gratis Uppsala
X-ORIGINAL-URL:https://arkiv.gratisuppsala.se
X-WR-CALDESC:Händelser för Gratis Uppsala
BEGIN:VTIMEZONE
TZID:Europe/Stockholm
BEGIN:DAYLIGHT
TZOFFSETFROM:+0100
TZOFFSETTO:+0200
TZNAME:CEST
DTSTART:20160327T010000
END:DAYLIGHT
BEGIN:STANDARD
TZOFFSETFROM:+0200
TZOFFSETTO:+0100
TZNAME:CET
DTSTART:20161030T010000
END:STANDARD
END:VTIMEZONE
BEGIN:VEVENT
DTSTART;TZID=Europe/Stockholm:20160120T140000
DTEND;TZID=Europe/Stockholm:20160120T150000
DTSTAMP:20260419T215427
CREATED:20151229T111126Z
LAST-MODIFIED:20151229T111126Z
UID:5432-1453298400-1453302000@arkiv.gratisuppsala.se
SUMMARY:Nybörjare vid datorn?
DESCRIPTION:Du som är nybörjare vid datorn\, eller vill lära dig internet är välkommen till it-handledning på Stadsbiblioteket i Uppsala\, varje onsdag mellan kl 14 och 15. \nUnder en timmes drop in finns kunnig personal på plats för att hjälpa dig. \nGratis. Ingen föranmälan krävs. \nBild: pixabay.com. \nDela evenemanget
URL:https://arkiv.gratisuppsala.se/event/nyborjare-vid-datorn/2016-01-20/
LOCATION:Stadsbiblioteket\, Svartbäcksgatan 17
CATEGORIES:60+,Föreläsning och Kurs
ATTACH;FMTTYPE=image/jpeg:https://arkiv.gratisuppsala.se/wp-content/uploads/2015/12/titta_dator.jpg
ORGANIZER;CN="Bibliotek%20Uppsala":MAILTO:kundtjanst@bibliotekuppsala.se
GEO:59.8606206;17.6353278
X-APPLE-STRUCTURED-LOCATION;VALUE=URI;X-ADDRESS=Stadsbiblioteket Svartbäcksgatan 17;X-APPLE-RADIUS=500;X-TITLE=Svartbäcksgatan 17:geo:17.6353278,59.8606206
END:VEVENT
END:VCALENDAR