BEGIN:VCALENDAR
VERSION:2.0
PRODID:-//Gratis Uppsala - ECPv5.2.1//NONSGML v1.0//EN
CALSCALE:GREGORIAN
METHOD:PUBLISH
X-WR-CALNAME:Gratis Uppsala
X-ORIGINAL-URL:https://arkiv.gratisuppsala.se
X-WR-CALDESC:Händelser för Gratis Uppsala
BEGIN:VTIMEZONE
TZID:Europe/Stockholm
BEGIN:DAYLIGHT
TZOFFSETFROM:+0100
TZOFFSETTO:+0200
TZNAME:CEST
DTSTART:20160327T010000
END:DAYLIGHT
BEGIN:STANDARD
TZOFFSETFROM:+0200
TZOFFSETTO:+0100
TZNAME:CET
DTSTART:20161030T010000
END:STANDARD
END:VTIMEZONE
BEGIN:VEVENT
DTSTART;TZID=Europe/Stockholm:20160217T180000
DTEND;TZID=Europe/Stockholm:20160217T200000
DTSTAMP:20260422T142758
CREATED:20160210T113818Z
LAST-MODIFIED:20160210T114648Z
UID:6133-1455732000-1455739200@arkiv.gratisuppsala.se
SUMMARY:OCD on stage - en teaterföreställningen
DESCRIPTION:Gå och se teaterföreställningen “OCD on stage” om tvång\nOCD on Stage är ett informations- och hälsoprojekt med teater som verktyg. Syftet med teatern är att den ska öka kunskapen om OCD hos anställda inom till exempel socialtjänsten\, vården\, skolan\, försäkringskassan\, arbetsförmedlingen\, Skatteverket\, Kronofogden\, bostadsföretag med flera. Projektet ska också bidra till att personer som har OCD och deras anhöriga ska må bättre genom att arbeta med teater som läkande kraft. Teaterföreställningen är slutfasen i projektet. \nOCD-föreningen Ananke i Uppsala län står bakom projektet. \n\nFri entré\nHörslinga finns\nAnmäl dig till:\ninfoteket@lul.se eller 018-611 66 77\n\n Dela evenemanget
URL:https://arkiv.gratisuppsala.se/event/ocd-on-stage/
LOCATION:Infoteket om funktionshinder\, S:t Johannesgatan 28 D\, Uppsala\, 752 33\, Sverige
CATEGORIES:Samhälle,Teater och Bio
ATTACH;FMTTYPE=image/jpeg:https://arkiv.gratisuppsala.se/wp-content/uploads/2016/02/ocd_on_stage_200px.jpg
GEO:59.8553013;17.6213622
X-APPLE-STRUCTURED-LOCATION;VALUE=URI;X-ADDRESS=Infoteket om funktionshinder S:t Johannesgatan 28 D Uppsala 752 33 Sverige;X-APPLE-RADIUS=500;X-TITLE=S:t Johannesgatan 28 D:geo:17.6213622,59.8553013
END:VEVENT
END:VCALENDAR