BEGIN:VCALENDAR
VERSION:2.0
PRODID:-//Gratis Uppsala - ECPv5.2.1//NONSGML v1.0//EN
CALSCALE:GREGORIAN
METHOD:PUBLISH
X-WR-CALNAME:Gratis Uppsala
X-ORIGINAL-URL:https://arkiv.gratisuppsala.se
X-WR-CALDESC:Händelser för Gratis Uppsala
BEGIN:VTIMEZONE
TZID:Europe/Stockholm
BEGIN:DAYLIGHT
TZOFFSETFROM:+0100
TZOFFSETTO:+0200
TZNAME:CEST
DTSTART:20170326T010000
END:DAYLIGHT
BEGIN:STANDARD
TZOFFSETFROM:+0200
TZOFFSETTO:+0100
TZNAME:CET
DTSTART:20171029T010000
END:STANDARD
END:VTIMEZONE
BEGIN:VEVENT
DTSTART;TZID=Europe/Stockholm:20170419T110000
DTEND;TZID=Europe/Stockholm:20170419T113000
DTSTAMP:20260420T153227
CREATED:20170411T102517Z
LAST-MODIFIED:20170411T102517Z
UID:13215-1492599600-1492601400@arkiv.gratisuppsala.se
SUMMARY:Onsdagkul:Minbio.
DESCRIPTION:Minibio\n\nFilm för de allra minsta. För dig barn som är 3-5 år. \nUngefärlig längd på programmet: 30 minuter \nFörbokning för förskolor: tove.frankow-crivellaro@knivsta.se \n\n\nAlla barn varmt välkomna!!. \nDela evenemanget
URL:https://arkiv.gratisuppsala.se/event/onsdagkulminbio/
LOCATION:Knivsta Bibliotek\, Centralvägen 18\, Knivsta\, Knivsta\, 74140\, Sverige
CATEGORIES:Litteratur och Poesi,Påsklov,Teater och Bio,Vuxen
ATTACH;FMTTYPE=image/png:https://arkiv.gratisuppsala.se/wp-content/uploads/2016/11/minibio.png
ORGANIZER;CN="Knivsta%20bibliotek":MAILTO:knivstabibliotek@knivsta.se
GEO:59.7276919;17.7857802
X-APPLE-STRUCTURED-LOCATION;VALUE=URI;X-ADDRESS=Knivsta Bibliotek Centralvägen 18 Knivsta Knivsta 74140 Sverige;X-APPLE-RADIUS=500;X-TITLE=Centralvägen 18:geo:17.7857802,59.7276919
END:VEVENT
END:VCALENDAR