BEGIN:VCALENDAR
VERSION:2.0
PRODID:-//Gratis Uppsala - ECPv5.2.1//NONSGML v1.0//EN
CALSCALE:GREGORIAN
METHOD:PUBLISH
X-WR-CALNAME:Gratis Uppsala
X-ORIGINAL-URL:https://arkiv.gratisuppsala.se
X-WR-CALDESC:Händelser för Gratis Uppsala
BEGIN:VTIMEZONE
TZID:Europe/Stockholm
BEGIN:DAYLIGHT
TZOFFSETFROM:+0100
TZOFFSETTO:+0200
TZNAME:CEST
DTSTART:20150329T010000
END:DAYLIGHT
BEGIN:STANDARD
TZOFFSETFROM:+0200
TZOFFSETTO:+0100
TZNAME:CET
DTSTART:20151025T010000
END:STANDARD
END:VTIMEZONE
BEGIN:VEVENT
DTSTART;TZID=Europe/Stockholm:20151014T200000
DTEND;TZID=Europe/Stockholm:20151014T220000
DTSTAMP:20260419T214339
CREATED:20150820T072607Z
LAST-MODIFIED:20150820T073821Z
UID:3399-1444852800-1444860000@arkiv.gratisuppsala.se
SUMMARY:Öppen bokcirkel: Timme noll av Lotta Lundberg
DESCRIPTION:Samtal kring Lotta Lundbergs bok Timme noll. I boken möter vi tre kvinnor från Berlin och deras upplevelser av krigsslutet 1945 och hur det påverkat dem och omvärlden. \nDela evenemanget
URL:https://arkiv.gratisuppsala.se/event/oppen-bokcirkel-timme-noll-av-lotta-lundberg/
LOCATION:Sigtunastiftelsen\, Manfred Björkquists allé 4\, Sigtuna\, Sverige
CATEGORIES:Föreläsning och Kurs
ATTACH;FMTTYPE=image/jpeg:https://arkiv.gratisuppsala.se/wp-content/uploads/2015/08/Böcker.jpg
GEO:59.6158714;17.7101321
X-APPLE-STRUCTURED-LOCATION;VALUE=URI;X-ADDRESS=Sigtunastiftelsen Manfred Björkquists allé 4 Sigtuna Sverige;X-APPLE-RADIUS=500;X-TITLE=Manfred Björkquists allé 4:geo:17.7101321,59.6158714
END:VEVENT
END:VCALENDAR