BEGIN:VCALENDAR
VERSION:2.0
PRODID:-//Gratis Uppsala - ECPv5.2.1//NONSGML v1.0//EN
CALSCALE:GREGORIAN
METHOD:PUBLISH
X-WR-CALNAME:Gratis Uppsala
X-ORIGINAL-URL:https://arkiv.gratisuppsala.se
X-WR-CALDESC:Händelser för Gratis Uppsala
BEGIN:VTIMEZONE
TZID:Europe/Stockholm
BEGIN:DAYLIGHT
TZOFFSETFROM:+0100
TZOFFSETTO:+0200
TZNAME:CEST
DTSTART:20160327T010000
END:DAYLIGHT
BEGIN:STANDARD
TZOFFSETFROM:+0200
TZOFFSETTO:+0100
TZNAME:CET
DTSTART:20161030T010000
END:STANDARD
END:VTIMEZONE
BEGIN:VEVENT
DTSTART;TZID=Europe/Stockholm:20160104T080000
DTEND;TZID=Europe/Stockholm:20160104T170000
DTSTAMP:20260420T181603
CREATED:20160104T124015Z
LAST-MODIFIED:20160104T124015Z
UID:5612-1451894400-1451926800@arkiv.gratisuppsala.se
SUMMARY:Öppen förskola Kaplansgården
DESCRIPTION:Öppen förskola kl 9-11.30 i Kaplansgården för barn och familj.  \nHär kan du umgås med andra daglediga vuxna och barn. Ni kan leka\, umgås\, pyssla och skapa. Sångstund kl 10. Fika finns till självkostnadspris.  \nIngen föranmälan\, det är bara att dyka upp! \nBild: pixabay.com. \nDela evenemanget
URL:https://arkiv.gratisuppsala.se/event/oppen-forskola-kaplansgarden/
LOCATION:Kaplansgården\, Vattholmavägen 94\, Uppsala\, 754 40\, Sverige
ATTACH;FMTTYPE=image/jpeg:https://arkiv.gratisuppsala.se/wp-content/uploads/2016/01/mamma_barn.jpg
GEO:59.8982243;17.6354188
X-APPLE-STRUCTURED-LOCATION;VALUE=URI;X-ADDRESS=Kaplansgården Vattholmavägen 94 Uppsala 754 40 Sverige;X-APPLE-RADIUS=500;X-TITLE=Vattholmavägen 94:geo:17.6354188,59.8982243
END:VEVENT
END:VCALENDAR