BEGIN:VCALENDAR
VERSION:2.0
PRODID:-//Gratis Uppsala - ECPv5.2.1//NONSGML v1.0//EN
CALSCALE:GREGORIAN
METHOD:PUBLISH
X-WR-CALNAME:Gratis Uppsala
X-ORIGINAL-URL:https://arkiv.gratisuppsala.se
X-WR-CALDESC:Händelser för Gratis Uppsala
BEGIN:VTIMEZONE
TZID:Europe/Stockholm
BEGIN:DAYLIGHT
TZOFFSETFROM:+0100
TZOFFSETTO:+0200
TZNAME:CEST
DTSTART:20160327T010000
END:DAYLIGHT
BEGIN:STANDARD
TZOFFSETFROM:+0200
TZOFFSETTO:+0100
TZNAME:CET
DTSTART:20161030T010000
END:STANDARD
END:VTIMEZONE
BEGIN:VEVENT
DTSTART;TZID=Europe/Stockholm:20161012T160000
DTEND;TZID=Europe/Stockholm:20161012T170000
DTSTAMP:20260419T190342
CREATED:20161007T113431Z
LAST-MODIFIED:20161007T113431Z
UID:8782-1476288000-1476291600@arkiv.gratisuppsala.se
SUMMARY:Öppen mangaverkstad på Stenhagenbiblioteket.
DESCRIPTION:Prova på att teckna serier på Stenhagenbiblioteket. \nVi hämtar inspiration både från Manga och andra serieböcker. \nAlla unga som är 7 år eller äldre\, och som är intresserade av manga och att lära sig teckna\, är välkomna. \nÖppen mangaverkstad under 10 onsdagar\, med uppehåll under lov. \nKursledare är Synnöve Gahrén. \nIngen föranmälan behövs. \nFri entre \n  \nDela evenemanget
URL:https://arkiv.gratisuppsala.se/event/oppen-mangaverkstad-pa-stenhagenbiblioteket/
LOCATION:Stenhagenbiblioteket\, Herrhagsvägen 8\, Uppsala
CATEGORIES:Föreläsning och Kurs
ATTACH;FMTTYPE=image/jpeg:https://arkiv.gratisuppsala.se/wp-content/uploads/2016/10/uppsala_stenhagen_org.jpg
END:VEVENT
END:VCALENDAR