BEGIN:VCALENDAR
VERSION:2.0
PRODID:-//Gratis Uppsala - ECPv5.2.1//NONSGML v1.0//EN
CALSCALE:GREGORIAN
METHOD:PUBLISH
X-WR-CALNAME:Gratis Uppsala
X-ORIGINAL-URL:https://arkiv.gratisuppsala.se
X-WR-CALDESC:Händelser för Gratis Uppsala
BEGIN:VTIMEZONE
TZID:Europe/Stockholm
BEGIN:DAYLIGHT
TZOFFSETFROM:+0100
TZOFFSETTO:+0200
TZNAME:CEST
DTSTART:20180325T010000
END:DAYLIGHT
BEGIN:STANDARD
TZOFFSETFROM:+0200
TZOFFSETTO:+0100
TZNAME:CET
DTSTART:20181028T010000
END:STANDARD
END:VTIMEZONE
BEGIN:VEVENT
DTSTART;TZID=Europe/Stockholm:20180119T150000
DTEND;TZID=Europe/Stockholm:20180119T150000
DTSTAMP:20260420T145732
CREATED:20171214T102903Z
LAST-MODIFIED:20171214T102903Z
UID:21259-1516374000-1516374000@arkiv.gratisuppsala.se
SUMMARY:Öppen visning av Vårt Uppsala med fokus på medeltiden
DESCRIPTION:Öppen visning av Vårt Uppsala med fokus på medeltiden\n\nÖppen visning av basutställningen Vårt Uppsala. Denna visning fokuserar på medeltiden. \nTid och plats\n19 januari 2018 kl. 15:00\nUpplandsmuseet \n\nVarje fredag kl 15 erbjudes en gratis visning\, cirka 30 minuter\, av en av Upplandsmuseets utställningar. Visningen tar cirka en halvtimme. \n\nFri entré \n\nBild från pixabay.com \n\n Dela evenemanget
URL:https://arkiv.gratisuppsala.se/event/oppen-visning-av-vart-uppsala-med-fokus-pa-medeltiden/
LOCATION:Upplandsmuseet\, Fyristorg 2\, Uppsala\, Sverige
CATEGORIES:Museum
ATTACH;FMTTYPE=image/jpeg:https://arkiv.gratisuppsala.se/wp-content/uploads/2017/12/goal-1838422_640.jpg
GEO:59.85895;17.634901
X-APPLE-STRUCTURED-LOCATION;VALUE=URI;X-ADDRESS=Upplandsmuseet Fyristorg 2 Uppsala Sverige;X-APPLE-RADIUS=500;X-TITLE=Fyristorg 2:geo:17.634901,59.85895
END:VEVENT
END:VCALENDAR