BEGIN:VCALENDAR
VERSION:2.0
PRODID:-//Gratis Uppsala - ECPv5.2.1//NONSGML v1.0//EN
CALSCALE:GREGORIAN
METHOD:PUBLISH
X-WR-CALNAME:Gratis Uppsala
X-ORIGINAL-URL:https://arkiv.gratisuppsala.se
X-WR-CALDESC:Händelser för Gratis Uppsala
BEGIN:VTIMEZONE
TZID:Europe/Stockholm
BEGIN:DAYLIGHT
TZOFFSETFROM:+0100
TZOFFSETTO:+0200
TZNAME:CEST
DTSTART:20150329T010000
END:DAYLIGHT
BEGIN:STANDARD
TZOFFSETFROM:+0200
TZOFFSETTO:+0100
TZNAME:CET
DTSTART:20151025T010000
END:STANDARD
END:VTIMEZONE
BEGIN:VEVENT
DTSTART;TZID=Europe/Stockholm:20151017T120000
DTEND;TZID=Europe/Stockholm:20151017T150000
DTSTAMP:20260420T081905
CREATED:20150914T091828Z
LAST-MODIFIED:20150930T105932Z
UID:3746-1445083200-1445094000@arkiv.gratisuppsala.se
SUMMARY:Öppet Hus Industriminnesföreningen
DESCRIPTION:Öppet Hus Industriminnesföreningen 11-14\nVisningar 11.15 och 12.45 \nIndustriminnesföreningens lokal Salagatan 16 A\, 2 tr. \nI Nymans Verkstäders gamla fabriksbyggnad finns utställningen som vill ge en bild av industristaden Uppsala med hjälp av berättelser\, fotografier och föremål. \nDet finns mycket att se och ta del av. Det berättas utförligt framförallt om AB Slotts Industrier och Uppsala Mejeri AB\, men också om kvarnindustrin och slakterier. Där finns också berättelsen om byggmästarna som byggde Uppsala och en kavalkad av 100 års Uppsaliensiska industriannonser. \nFritt inträde. Alla välkomna! \nDela evenemanget
URL:https://arkiv.gratisuppsala.se/event/oppet-hus-industriminnesforeningen-2/
LOCATION:Uppsala industriminnesförening\, Nymanshuset\, Salagatan 16A\, UPPSALA\, 753 30\, Sverige
CATEGORIES:Samhälle,Utställning
ATTACH;FMTTYPE=image/jpeg:https://arkiv.gratisuppsala.se/wp-content/uploads/2015/09/images1.jpg
GEO:59.8639286;17.6425212
X-APPLE-STRUCTURED-LOCATION;VALUE=URI;X-ADDRESS=Uppsala industriminnesförening Nymanshuset Salagatan 16A UPPSALA 753 30 Sverige;X-APPLE-RADIUS=500;X-TITLE=Salagatan 16A:geo:17.6425212,59.8639286
END:VEVENT
END:VCALENDAR