BEGIN:VCALENDAR
VERSION:2.0
PRODID:-//Gratis Uppsala - ECPv5.2.1//NONSGML v1.0//EN
CALSCALE:GREGORIAN
METHOD:PUBLISH
X-WR-CALNAME:Gratis Uppsala
X-ORIGINAL-URL:https://arkiv.gratisuppsala.se
X-WR-CALDESC:Händelser för Gratis Uppsala
BEGIN:VTIMEZONE
TZID:Europe/Stockholm
BEGIN:DAYLIGHT
TZOFFSETFROM:+0100
TZOFFSETTO:+0200
TZNAME:CEST
DTSTART:20160327T010000
END:DAYLIGHT
BEGIN:STANDARD
TZOFFSETFROM:+0200
TZOFFSETTO:+0100
TZNAME:CET
DTSTART:20161030T010000
END:STANDARD
END:VTIMEZONE
BEGIN:VEVENT
DTSTART;VALUE=DATE:20160829
DTEND;VALUE=DATE:20160906
DTSTAMP:20260420T011602
CREATED:20160818T074625Z
LAST-MODIFIED:20160818T074625Z
UID:8135-1472432400-1473037199@arkiv.gratisuppsala.se
SUMMARY:Öppet Hus på Uppsala Danscenter!
DESCRIPTION:”En av årets roligaste dansvecka på Uppsala Danscenter”\n\n\nProva olika dansstilar varje dag – För alla åldrar – Gratis\n\n\nwww.uppsaladanscenter.se\n\n\n\n29/8 Måndag\n\n\nÅlder: ungdom 13år/vuxen\n\n\nKvällens kurser: Balett Jazzdans Broadway Cheerdance Disco Feminine Vibe Stretch\n\n\n*Schema hittar du här!\n\n\n \n\n\n30/8 Tisdag\n\n\nÅlder: ungdom 13år/vuxen\n\n\nKvällens kurser: HipHop Popping Dancehall House Hype Waacking Vogue Feminine Vibe Locking\n\n\n*Schema hittar du här!\n\n\n \n\n\n31/8 Onsdag\n\n\nÅlder: ungdom 13år/vuxen\n\n\nKvällens kurser: Salsa Kubansk Salsa La-style Bachata Kizomba Salsa Ladystyling Zumba Cubaton\n\n\n*Schema hittar du här!\n\n\n \n\n\n1/9 Torsdag\n\n\nÅlder: ungdom 13år/vuxen\n\n\nKvällens kurser: Orientalisk Bollywood Afrikansk Stretch Jallabina Funktionell Träning\n\n\n*Schema hittar du här!\n\n\n \n\n\n3/9 Lördag\n\n\nBarnens Dansdag 1-12år\n\n\nDagens kurser: HipHop Disco Cheerdance Barndans Balett Jazzdans Broadway*\nSchema hittar du här!\n\n\n \n\n\n4/9 Söndag\n\n\nÅlder: Från 15år +\n\n\nKvällens kurser: Pole Dance Stretch\n\n\n*Schema hittar du här!\n\n\nOBS! Se adress på Pole Dance Studio – S:T Olofsgatan 40\n\n Dela evenemanget
URL:https://arkiv.gratisuppsala.se/event/oppet-hus-pa-uppsala-danscenter/
LOCATION:Uppsala Danscenter\, S:t Persgatan 10\, Uppsala\, Sverige
CATEGORIES:Kropp och Själ,Prova-på,Sport & Motion
ATTACH;FMTTYPE=image/jpeg:https://arkiv.gratisuppsala.se/wp-content/uploads/2016/01/Uppsala_Danscenter.jpg
GEO:59.8601136;17.6373926
X-APPLE-STRUCTURED-LOCATION;VALUE=URI;X-ADDRESS=Uppsala Danscenter S:t Persgatan 10 Uppsala Sverige;X-APPLE-RADIUS=500;X-TITLE=S:t Persgatan 10:geo:17.6373926,59.8601136
END:VEVENT
END:VCALENDAR