BEGIN:VCALENDAR
VERSION:2.0
PRODID:-//Gratis Uppsala - ECPv5.2.1//NONSGML v1.0//EN
CALSCALE:GREGORIAN
METHOD:PUBLISH
X-WR-CALNAME:Gratis Uppsala
X-ORIGINAL-URL:https://arkiv.gratisuppsala.se
X-WR-CALDESC:Händelser för Gratis Uppsala
BEGIN:VTIMEZONE
TZID:Europe/Stockholm
BEGIN:DAYLIGHT
TZOFFSETFROM:+0100
TZOFFSETTO:+0200
TZNAME:CEST
DTSTART:20160327T010000
END:DAYLIGHT
BEGIN:STANDARD
TZOFFSETFROM:+0200
TZOFFSETTO:+0100
TZNAME:CET
DTSTART:20161030T010000
END:STANDARD
END:VTIMEZONE
BEGIN:VEVENT
DTSTART;TZID=Europe/Stockholm:20160724T170000
DTEND;TZID=Europe/Stockholm:20160724T183000
DTSTAMP:20260420T064510
CREATED:20160728T085939Z
LAST-MODIFIED:20160824T072206Z
UID:7851-1469379600-1469385000@arkiv.gratisuppsala.se
SUMMARY:Internationella orgelkonserter; 5 organister uppträder i Domkyrkan
DESCRIPTION:24 juli kl 16: Jerzy Dziubinski\, Polen. Han är professor vid musikhögskolan i Warszawa där han undervisar orgel och sitter i juryn för bl.a. orgeltävlingar. Jerzy håller också flera föredrag i musik i Polen och utomlands. Han är vinnaren av hederspris av samhället Bach i Leipzig\, för de mest framstående tolkning av verk av Bach vid den internationella orgeltävlingen i Budapest och deltog på Bachs årsdag av döden i Leipzig.\n\n  \n\n31 juli kl 16: Alessandro Biancho\, Italien. Alessandro började spela orgel som 12-åring och är idag en av de mest aktiva och etablerade organisterna på nationell samt internationell nivå. Han har tidigare gjort ca 1500 konserter. Alessandro har hållit konserter i hela välden såsom Notre Dame och Westminster Abbey. Han har också i en del länder hållit flera seminarier och föreläsningar om italiensk musik och har varit jurymedlem i orgel- och körtävlingar.\n\n  \n\n7 augusti kl 16: Stephen Farr\, ­England. Stephen har blivit erkänd som en av de mest begåvade organister i hans generation\, och som spelar med en enastående finish och livlighet\, med en briljant teknik och en imponerande\, stilren och omfattande repertoar. Även Stephen har haft konserter i hela världen bla. två gånger i St Pauls Cathedral. Förutom att frilansa som solist arbetar han som musikdirektör vid St Pauls Knightsbridge\, ett av Londons mest framstående kyrkor.\n\n  \n\n14 augusti kl 16: David Briggs\, Kanada. David har byggt upp ett rykte som en spännande artist och kommunikatör\, med särskilt betoning för konsten att improvisera till ex. stumfilmer som bl.a. Phantom of the opera och Jeanne d’Arc\, samt flera Chaplin-filmer. Han är idag en internationellt erkänd organist och hyllad för sin musikalitet\, en skicklig organist med en förmåga att stimulera och engagera en publik i alla åldrar. Han spelar symfonisk musik av flera kända kompositörer ex. Schubert\, Tjajkovskij och Bach.\n\n  \n\n21 augusti kl 16: Gary Verkade\, Piteå. Gary som är född i Chicago arbetar idag på Piteå musikhögskola där han bl.a. undervisar och komponerar musik.Han har också varit gästprofessor \, föreläsare och artist vid flera universitet i Europa och USA. Som musiker är han aktiv som organist med tyngdpunkt på samtida musik samt äldre musik och har gjort konserter runt om i Europa och USA samt Australien. Gary har komponerat flera assembler och är en av grundarna av Essen\, Germany-based improvisation ensemble synthese\, där han uppträder på synt och dator. Han har även publicerat en del essäer och artiklar om ämnen som rör orgel\, uppförandepraxis av äldre musik och komposition.\n\n  \n \nDela evenemanget
URL:https://arkiv.gratisuppsala.se/event/orgelkonsert-med-alessandro-bianchi-italien/2016-07-24/
LOCATION:Uppsala domkyrka\, Domkyrkoplan 5\, Uppsala\, 75310\, Sverige
CATEGORIES:Religion,Sång och Musik
ATTACH;FMTTYPE=image/jpeg:https://arkiv.gratisuppsala.se/wp-content/uploads/2016/07/Organist.jpg
GEO:59.8584471;17.6332992
X-APPLE-STRUCTURED-LOCATION;VALUE=URI;X-ADDRESS=Uppsala domkyrka Domkyrkoplan 5 Uppsala 75310 Sverige;X-APPLE-RADIUS=500;X-TITLE=Domkyrkoplan 5:geo:17.6332992,59.8584471
END:VEVENT
END:VCALENDAR