BEGIN:VCALENDAR
VERSION:2.0
PRODID:-//Gratis Uppsala - ECPv5.2.1//NONSGML v1.0//EN
CALSCALE:GREGORIAN
METHOD:PUBLISH
X-WR-CALNAME:Gratis Uppsala
X-ORIGINAL-URL:https://arkiv.gratisuppsala.se
X-WR-CALDESC:Händelser för Gratis Uppsala
BEGIN:VTIMEZONE
TZID:Europe/Stockholm
BEGIN:DAYLIGHT
TZOFFSETFROM:+0100
TZOFFSETTO:+0200
TZNAME:CEST
DTSTART:20180325T010000
END:DAYLIGHT
BEGIN:STANDARD
TZOFFSETFROM:+0200
TZOFFSETTO:+0100
TZNAME:CET
DTSTART:20181028T010000
END:STANDARD
END:VTIMEZONE
BEGIN:VEVENT
DTSTART;TZID=Europe/Stockholm:20180426T143000
DTEND;TZID=Europe/Stockholm:20180426T163000
DTSTAMP:20260420T143727
CREATED:20180426T062700Z
LAST-MODIFIED:20180426T062700Z
UID:24181-1524753000-1524760200@arkiv.gratisuppsala.se
SUMMARY:Osynligt annorlunda\, en föreläsning från SeSam
DESCRIPTION:Osynligt annorlunda\, en föreläsning från SeSam\nFöreläsningens syfte är att förmedla hur det kan te sig att vara på den högfungerande delen av autismspektrumet. Den kommer handla om vad som kan vara svårt och vad som kan underlätta. Om missförstånd\, bemötande\, frihet och tilläggsproblematik. \nDen aviga vägen ut i arbetslivet och när det inte blev som man tänkt sig. Om upptäckten av att\, trots hög utbildning med 6 års universitetsstudier\, inte passa in på arbetsmarknaden i samhällets smala ramar. \nFöreläsare: Sanna Linder \nTid och plats\nTorsdag 26 april\, klockan 13.30-15.30 \nMariasalen\, Stiftets hus \nMer information här \nDela evenemanget
URL:https://arkiv.gratisuppsala.se/event/osynligt-annorlunda-en-forelasning-fran-sesam/
LOCATION:Dragarbrunnsgatan 71\, Mariasalen\, Stiftets Hus\, Dragarbrunnsgatan 71\, Uppsala\, Sverige
CATEGORIES:För anhöriga,Föreläsning och Kurs,Kropp och Själ,Kunskap och Lärande,Teknik och Vetenskap
ATTACH;FMTTYPE=image/jpeg:https://arkiv.gratisuppsala.se/wp-content/uploads/2018/04/180426-OsynligtAnnorlunda-768x576-e1524727571570.jpg
ORGANIZER;CN="SeSam":MAILTO:info@sesamuppsala.se
END:VEVENT
END:VCALENDAR