BEGIN:VCALENDAR
VERSION:2.0
PRODID:-//Gratis Uppsala - ECPv5.2.1//NONSGML v1.0//EN
CALSCALE:GREGORIAN
METHOD:PUBLISH
X-WR-CALNAME:Gratis Uppsala
X-ORIGINAL-URL:https://arkiv.gratisuppsala.se
X-WR-CALDESC:Händelser för Gratis Uppsala
BEGIN:VTIMEZONE
TZID:Europe/Stockholm
BEGIN:DAYLIGHT
TZOFFSETFROM:+0100
TZOFFSETTO:+0200
TZNAME:CEST
DTSTART:20160327T010000
END:DAYLIGHT
BEGIN:STANDARD
TZOFFSETFROM:+0200
TZOFFSETTO:+0100
TZNAME:CET
DTSTART:20161030T010000
END:STANDARD
END:VTIMEZONE
BEGIN:VEVENT
DTSTART;TZID=Europe/Stockholm:20160421T190000
DTEND;TZID=Europe/Stockholm:20160420T180000
DTSTAMP:20260421T005656
CREATED:20160420T111621Z
LAST-MODIFIED:20160420T111621Z
UID:6818-1461265200-1461175200@arkiv.gratisuppsala.se
SUMMARY:Panelsamtal - Att gestalta Uppsalas koloniala arv
DESCRIPTION:Tre aktuella konstprojekt som lyfter fram trauman och etiska problem som är knutna till Uppsalas historia. Katarina Pirak Sikku\, konstnär och aktuell med utställningen Namaheamiid luottat – De namnlösas spår på Upplandsmuseet\, Åsa Sandzén och Mario Adamson projektledare för det offentliga konstverket Akkorna\, med Carola Grahn som inbjuden konstnär samt Åsa Bharathi Larsson\, doktorand i konstvetenskap Uppsala universitet med avhandlingsprojektet  Colonizing Fever: Race and Media Cultures in Late Nineteenth-Century Sweden. \nModerator: Daniel Werkmäster\, chef Uppsala konstmuseum. \nSamarr: Upplandsmuseet\, Kulturförvaltningen\, Avdelningen för strategi och omvärld \nDela evenemanget
URL:https://arkiv.gratisuppsala.se/event/panelsamtal-att-gestalta-uppsalas-koloniala-arv/
LOCATION:Uppsala konstmuseum\, Drottning Christinas väg 1E\, Uppsala\, 75237 \, Sverige
CATEGORIES:Föreläsning och Kurs
GEO:59.8532935;17.6351313
X-APPLE-STRUCTURED-LOCATION;VALUE=URI;X-ADDRESS=Uppsala konstmuseum Drottning Christinas väg 1E Uppsala 75237  Sverige;X-APPLE-RADIUS=500;X-TITLE=Drottning Christinas väg 1E:geo:17.6351313,59.8532935
END:VEVENT
END:VCALENDAR