BEGIN:VCALENDAR
VERSION:2.0
PRODID:-//Gratis Uppsala - ECPv5.2.1//NONSGML v1.0//EN
CALSCALE:GREGORIAN
METHOD:PUBLISH
X-WR-CALNAME:Gratis Uppsala
X-ORIGINAL-URL:https://arkiv.gratisuppsala.se
X-WR-CALDESC:Händelser för Gratis Uppsala
BEGIN:VTIMEZONE
TZID:Europe/Stockholm
BEGIN:DAYLIGHT
TZOFFSETFROM:+0100
TZOFFSETTO:+0200
TZNAME:CEST
DTSTART:20180325T010000
END:DAYLIGHT
BEGIN:STANDARD
TZOFFSETFROM:+0200
TZOFFSETTO:+0100
TZNAME:CET
DTSTART:20181028T010000
END:STANDARD
END:VTIMEZONE
BEGIN:VEVENT
DTSTART;TZID=Europe/Stockholm:20180424T190000
DTEND;TZID=Europe/Stockholm:20180424T203000
DTSTAMP:20260420T143737
CREATED:20180420T063735Z
LAST-MODIFIED:20180420T063735Z
UID:24166-1524596400-1524601800@arkiv.gratisuppsala.se
SUMMARY:Panelsamtal om Svenska Akademien
DESCRIPTION: Panelsamtal om Svenska Akademien\nmed Ebba Witt-Brattström\, Göran Lambertz och Petra Söderlund. Moderator Ulrika Knutson.  \nVilken betydelse har Svenska Akademien idag? Varför är Akademien viktig? Är den Svenska Akademien en otidsenlig institution? Hur ser det ut efter krisen? \nTid och plats\nTisdag 24 April\, klockan 18.00-19.30 \nTeater Blanca \n(Bild från Wikimedia Commons.) \nDela evenemanget
URL:https://arkiv.gratisuppsala.se/event/panelsamtal-om-svenska-akademien/
LOCATION:Teater Blanca\, Öster plan 1\, Uppsala\, Sverige
CATEGORIES:Samhälle
ATTACH;FMTTYPE=image/jpeg:https://arkiv.gratisuppsala.se/wp-content/uploads/2018/04/640px-Svenska_akademien_01.jpg
GEO:59.8644783;17.6376181
X-APPLE-STRUCTURED-LOCATION;VALUE=URI;X-ADDRESS=Teater Blanca Öster plan 1 Uppsala Sverige;X-APPLE-RADIUS=500;X-TITLE=Öster plan 1:geo:17.6376181,59.8644783
END:VEVENT
END:VCALENDAR