BEGIN:VCALENDAR
VERSION:2.0
PRODID:-//Gratis Uppsala - ECPv5.2.1//NONSGML v1.0//EN
CALSCALE:GREGORIAN
METHOD:PUBLISH
X-WR-CALNAME:Gratis Uppsala
X-ORIGINAL-URL:https://arkiv.gratisuppsala.se
X-WR-CALDESC:Händelser för Gratis Uppsala
BEGIN:VTIMEZONE
TZID:Europe/Stockholm
BEGIN:DAYLIGHT
TZOFFSETFROM:+0100
TZOFFSETTO:+0200
TZNAME:CEST
DTSTART:20170326T010000
END:DAYLIGHT
BEGIN:STANDARD
TZOFFSETFROM:+0200
TZOFFSETTO:+0100
TZNAME:CET
DTSTART:20171029T010000
END:STANDARD
END:VTIMEZONE
BEGIN:VEVENT
DTSTART;TZID=Europe/Stockholm:20170412T140000
DTEND;TZID=Europe/Stockholm:20170412T160000
DTSTAMP:20260419T183224
CREATED:20170329T085033Z
LAST-MODIFIED:20170410T094711Z
UID:12936-1492005600-1492012800@arkiv.gratisuppsala.se
SUMMARY:Påskkortsverkstad
DESCRIPTION:Besök Sävjabiblioteket den 12 april där man får göra sina egna påskkort. \nDu kommer att kunna klistra\, måla och klippa. \nMindre barn kan behöva vuxet sällskap. \nSå besök Sävjabiblioteket den 12 april! \n  \nBilden hämtad från bibliotekuppsala.se  \nDela evenemanget
URL:https://arkiv.gratisuppsala.se/event/paskkortsverkstad/
LOCATION:Sävjabiblioteket\, Västgötaresan 133\, Uppsala\, 757 54\, Sverige
CATEGORIES:Litteratur och Poesi,Påsklov
ATTACH;FMTTYPE=image/jpeg:https://arkiv.gratisuppsala.se/wp-content/uploads/2017/03/Ångströmlaboratoriet-1.jpg
ORGANIZER;CN="Bibliotek%20Uppsala":MAILTO:kundtjanst@bibliotekuppsala.se
GEO:59.810724;17.702339
X-APPLE-STRUCTURED-LOCATION;VALUE=URI;X-ADDRESS=Sävjabiblioteket Västgötaresan 133 Uppsala 757 54 Sverige;X-APPLE-RADIUS=500;X-TITLE=Västgötaresan 133:geo:17.702339,59.810724
END:VEVENT
END:VCALENDAR