BEGIN:VCALENDAR
VERSION:2.0
PRODID:-//Gratis Uppsala - ECPv5.2.1//NONSGML v1.0//EN
CALSCALE:GREGORIAN
METHOD:PUBLISH
X-WR-CALNAME:Gratis Uppsala
X-ORIGINAL-URL:https://arkiv.gratisuppsala.se
X-WR-CALDESC:Händelser för Gratis Uppsala
BEGIN:VTIMEZONE
TZID:Europe/Stockholm
BEGIN:DAYLIGHT
TZOFFSETFROM:+0100
TZOFFSETTO:+0200
TZNAME:CEST
DTSTART:20160327T010000
END:DAYLIGHT
BEGIN:STANDARD
TZOFFSETFROM:+0200
TZOFFSETTO:+0100
TZNAME:CET
DTSTART:20161030T010000
END:STANDARD
END:VTIMEZONE
BEGIN:VEVENT
DTSTART;TZID=Europe/Stockholm:20160515T110000
DTEND;TZID=Europe/Stockholm:20160515T170000
DTSTAMP:20260421T133340
CREATED:20160502T112812Z
LAST-MODIFIED:20160502T112812Z
UID:6882-1463310000-1463331600@arkiv.gratisuppsala.se
SUMMARY:Pelle Svanslös Cykeldag
DESCRIPTION:Pelle Svanslös Cykeldag i Botaniska Trädgården\, söndag 15 maj kl 10-16. \nAtt cykla är kul\, hälsosamt och bra för miljön. Det kommer att bjudas på massor av aktiviteter med cykling och trafiksäkerhet som bärande teman.\nFör att alla barn ska kunna vara med på Pelle Svanlös Cykeldag\, är den gratis! \nDet här är några saker du kan vara med på:\n-Pelles trafikstig – trafikkunskap och trafiksäkerhet med flera olika stationer; hjälm\, lyse\, reflexer m m.\n-Polis\, brandkår och ambulans är på plats och berättar för barnen om sina arbeten och vad som är viktigt att tänka på i trafiken.\n-Röris med Friskis&Svettis.\n-Maja Gräddnos och Bill bjuder på teater och allsång från scenen. Uppsalaprofilen Anna-Karin “ako” Oldeberg leder programmet från scenen och sjunger för och med barnen tillsammans med musikern Grosse Grotherus.\n-Buslätt att cykla rätt! Cykelbana för de yngsta.\n-CityGross bjuder alla barn på saft och korv med bröd. \nHela programmet finns här. \nBild: pellescykeldag.se. \nDela evenemanget
URL:https://arkiv.gratisuppsala.se/event/pelle-svanslos-cykeldag/
LOCATION:Botaniska trädgården\, Villavägen 8\, Uppsala\, 752 36\, Sverige
ATTACH;FMTTYPE=image/png:https://arkiv.gratisuppsala.se/wp-content/uploads/2016/05/PelleCykeldag-Logotype2.png
ORGANIZER;CN="Uppsala%20kommun":MAILTO:uppsala.kommun@uppsala.se
GEO:59.8503326;17.6269648
X-APPLE-STRUCTURED-LOCATION;VALUE=URI;X-ADDRESS=Botaniska trädgården Villavägen 8 Uppsala 752 36 Sverige;X-APPLE-RADIUS=500;X-TITLE=Villavägen 8:geo:17.6269648,59.8503326
END:VEVENT
END:VCALENDAR