BEGIN:VCALENDAR
VERSION:2.0
PRODID:-//Gratis Uppsala - ECPv5.2.1//NONSGML v1.0//EN
CALSCALE:GREGORIAN
METHOD:PUBLISH
X-WR-CALNAME:Gratis Uppsala
X-ORIGINAL-URL:https://arkiv.gratisuppsala.se
X-WR-CALDESC:Händelser för Gratis Uppsala
BEGIN:VTIMEZONE
TZID:Europe/Stockholm
BEGIN:DAYLIGHT
TZOFFSETFROM:+0100
TZOFFSETTO:+0200
TZNAME:CEST
DTSTART:20150329T010000
END:DAYLIGHT
BEGIN:STANDARD
TZOFFSETFROM:+0200
TZOFFSETTO:+0100
TZNAME:CET
DTSTART:20151025T010000
END:STANDARD
END:VTIMEZONE
BEGIN:VEVENT
DTSTART;TZID=Europe/Stockholm:20151017T100000
DTEND;TZID=Europe/Stockholm:20151017T100000
DTSTAMP:20260420T090540
CREATED:20151009T073000Z
LAST-MODIFIED:20151009T074714Z
UID:4108-1445076000-1445076000@arkiv.gratisuppsala.se
SUMMARY:Pilgrimsvandring utmed Marialeden
DESCRIPTION:Samling kl. 09.00 Vandringsledare är Lars-Åke Skagegård\, turist- & pilgrimsansvarig och Mona Gustavsson\, diakon.\n\nSamling vid Storvreta kapell och vandrar längs Marialeden till Gamla Uppsala kyrka(c:a 11 km).. \nMedtag matsäck. \nTema: Frälsarkransen. \nMarialeden är en pilgrimsled mellan Gamla Uppsala och Tegelsmora. \n\n Dela evenemanget
URL:https://arkiv.gratisuppsala.se/event/pilgrimsvandring-utmed-marialeden/
LOCATION:Storvreta kapell\, Ärentunavägen 3\, Storvreta\, 74330\, Sverige
CATEGORIES:Kropp och Själ,Sport & Motion,Utflykt / Picknick
GEO:59.9624865;17.6993557
X-APPLE-STRUCTURED-LOCATION;VALUE=URI;X-ADDRESS=Storvreta kapell Ärentunavägen 3 Storvreta 74330 Sverige;X-APPLE-RADIUS=500;X-TITLE=Ärentunavägen 3:geo:17.6993557,59.9624865
END:VEVENT
END:VCALENDAR