BEGIN:VCALENDAR
VERSION:2.0
PRODID:-//Gratis Uppsala - ECPv5.2.1//NONSGML v1.0//EN
CALSCALE:GREGORIAN
METHOD:PUBLISH
X-WR-CALNAME:Gratis Uppsala
X-ORIGINAL-URL:https://arkiv.gratisuppsala.se
X-WR-CALDESC:Händelser för Gratis Uppsala
BEGIN:VTIMEZONE
TZID:Europe/Stockholm
BEGIN:DAYLIGHT
TZOFFSETFROM:+0100
TZOFFSETTO:+0200
TZNAME:CEST
DTSTART:20160327T010000
END:DAYLIGHT
BEGIN:STANDARD
TZOFFSETFROM:+0200
TZOFFSETTO:+0100
TZNAME:CET
DTSTART:20161030T010000
END:STANDARD
END:VTIMEZONE
BEGIN:VEVENT
DTSTART;TZID=Europe/Stockholm:20160505T120000
DTEND;TZID=Europe/Stockholm:20160505T160000
DTSTAMP:20260421T172440
CREATED:20160504T105946Z
LAST-MODIFIED:20160504T105946Z
UID:6906-1462449600-1462464000@arkiv.gratisuppsala.se
SUMMARY:Prata 5 minuter om psykisk ohälsa 5 maj
DESCRIPTION:Inför 5 maj startar Hjärnkoll en rikstäckande aktivitet på temat ”5 minuter om psykisk ohälsa”. På olika \nplatser i landet kommer Hjärnkolls föreningar och ambassadörer att röra sig på gator och torg och \nstarta samtal om psykisk ohälsa. I sociala medier uppmanas allmänheten att dela med sig av tankar\, \ntips\, bilder och filmer om psykisk hälsa och ohälsa med hashtagen #5min5maj. \nI Uppsala kommer Hjärnkoll att finnas på plats mellan 11-15 vid Stora torget och på flera andra platser \ni staden och länet \nLäs arrangörens flyer. \nDela evenemanget
URL:https://arkiv.gratisuppsala.se/event/prata-5-minuter-om-psykisk-ohalsa-5-maj/
LOCATION:Stora Torget\, Stora Torget 7\, Uppsala\, Sverige
CATEGORIES:Kropp och Själ
ORGANIZER;CN="F%C3%B6reningen%20Hj%C3%A4rnkoll%20i%20Uppsala%20l%C3%A4n":MAILTO:info@hjarnkoll-uppsalalan.se
END:VEVENT
END:VCALENDAR