BEGIN:VCALENDAR
VERSION:2.0
PRODID:-//Gratis Uppsala - ECPv5.2.1//NONSGML v1.0//EN
CALSCALE:GREGORIAN
METHOD:PUBLISH
X-WR-CALNAME:Gratis Uppsala
X-ORIGINAL-URL:https://arkiv.gratisuppsala.se
X-WR-CALDESC:Händelser för Gratis Uppsala
BEGIN:VTIMEZONE
TZID:Europe/Stockholm
BEGIN:DAYLIGHT
TZOFFSETFROM:+0100
TZOFFSETTO:+0200
TZNAME:CEST
DTSTART:20170326T010000
END:DAYLIGHT
BEGIN:STANDARD
TZOFFSETFROM:+0200
TZOFFSETTO:+0100
TZNAME:CET
DTSTART:20171029T010000
END:STANDARD
END:VTIMEZONE
BEGIN:VEVENT
DTSTART;TZID=Europe/Stockholm:20170512T160000
DTEND;TZID=Europe/Stockholm:20170512T163000
DTSTAMP:20260420T050646
CREATED:20170508T074312Z
LAST-MODIFIED:20170508T074312Z
UID:13915-1494604800-1494606600@arkiv.gratisuppsala.se
SUMMARY:Professorshemmet i Walmstedtska gården - öppen visning arrangerat av Upplandsmuseet
DESCRIPTION:Professorshemmet i Walmstedtska gården\nBesök professorshemmet där tiden tycks ha stått stilla.\nProfessorshemmet i Walmstedtska gården har öppen visning den 12 maj så passa på och besök en okänd pärla mitt i Uppsala. En trappa upp i Walmstedtska gården finns professor Herman Rydins våning. \nLägenheten är en rekonstruktion av den bostad som familjen Rydin hyrde i Walmstedtska gården åren 1860 – 1904. Bostaden är på sex rum och kök och visar ett högborgerligt hem från 1800-talets senare del.\nStig in i historien. Möt en värld fylld av pärlbroderier\, stoppade möbler och lärdom. \nHemmet är väldokumenterat. Rekonstruktionen av våningen bygger dels på den genomfotografering som gjordes av Alfred Dahlgren 1905\, dels på bouppteckningar\, men framförallt på sonen Herman Rydins memoarer “Ur minnet och andra gömmor”. \nVisningen tar ca 30 minuter och är gratis. \nOBS! Max 25 personer \nNär: 12 maj klockan 15.00-15.30\nVar: Walmstedtska gården\, Sysslomansgatan 1 \nInformation om visningen finns på Upplandsmuseets hemsida. \n  \n\nBild tagen av Initcia \nDela evenemanget
URL:https://arkiv.gratisuppsala.se/event/professorshemmet-oppen-visning/
LOCATION:Walmstedtska gården\, Sysslomansgatan 1\, Uppsala
CATEGORIES:Museum,Samhälle,Utställning
ATTACH;FMTTYPE=image/jpeg:https://arkiv.gratisuppsala.se/wp-content/uploads/2016/10/Upplandsmuseét-2.jpg
GEO:59.8592377;17.6325513
X-APPLE-STRUCTURED-LOCATION;VALUE=URI;X-ADDRESS=Walmstedtska gården Sysslomansgatan 1 Uppsala;X-APPLE-RADIUS=500;X-TITLE=Sysslomansgatan 1:geo:17.6325513,59.8592377
END:VEVENT
END:VCALENDAR